OziExplorer Map Data File Version 2.2
Ð_142_soc_1.jpg
Ð_142_SOC_1.ozf2
1 ,Map Code,
WGS 84,WGS 84, 0.0000, 0.0000,WGS 84
Reserved 1
Reserved 2
Magnetic Variation,,,E
Map Projection,Latitude/Longitude,PolyCal,No,AutoCalOnly,No,BSBUseWPX,No
Point01,xy, 897, 703,in, deg, 53,19.99998,N, 40,19.26666,E, grid, , , ,N
Point02,xy, 1677, 697,in, deg, 53,19.99998,N, 40,29.26668,E, grid, , , ,N
Point03,xy, 893, 2652,in, deg, 53, 4.99998,N, 40,19.26666,E, grid, , , ,N
Point04,xy, 110, 2652,in, deg, 53, 4.99998,N, 40, 9.26664,E, grid, , , ,N
Point05,xy, , ,in, deg, , ,N, , ,E, grid, , , ,N
Point06,xy, , ,in, deg, , ,N, , ,E, grid, , , ,N
Point07,xy, , ,in, deg, , ,N, , ,E, grid, , , ,N
Point08,xy, , ,in, deg, , ,N, , ,E, grid, , , ,N
Point09,xy, , ,in, deg, , ,N, , ,E, grid, , , ,N
Point10,xy, , ,in, deg, , ,N, , ,W, grid, , , ,N
Point11,xy, , ,in, deg, , ,N, , ,W, grid, , , ,N
Point12,xy, , ,in, deg, , ,N, , ,W, grid, , , ,N
Point13,xy, , ,in, deg, , ,N, , ,W, grid, , , ,N
Point14,xy, , ,in, deg, , ,N, , ,W, grid, , , ,N
Point15,xy, , ,in, deg, , ,N, , ,W, grid, , , ,N
Point16,xy, , ,in, deg, , ,N, , ,W, grid, , , ,N
Point17,xy, , ,in, deg, , ,N, , ,W, grid, , , ,N
Point18,xy, , ,in, deg, , ,N, , ,W, grid, , , ,N
Point19,xy, , ,in, deg, , ,N, , ,W, grid, , , ,N
Point20,xy, , ,in, deg, , ,N, , ,W, grid, , , ,N
Point21,xy, , ,in, deg, , ,N, , ,W, grid, , , ,N
Point22,xy, , ,in, deg, , ,N, , ,W, grid, , , ,N
Point23,xy, , ,in, deg, , ,N, , ,W, grid, , , ,N
Point24,xy, , ,in, deg, , ,N, , ,W, grid, , , ,N
Point25,xy, , ,in, deg, , ,N, , ,W, grid, , , ,N
Point26,xy, , ,in, deg, , ,N, , ,W, grid, , , ,N
Point27,xy, , ,in, deg, , ,N, , ,W, grid, , , ,N
Point28,xy, , ,in, deg, , ,N, , ,W, grid, , , ,N
Point29,xy, , ,in, deg, , ,N, , ,W, grid, , , ,N
Point30,xy, , ,in, deg, , ,N, , ,W, grid, , , ,N
Projection Setup, 0.000000000, 39.000000000, 1.000000000, 500000.00, 0.00,,,,,
Map Feature = MF ; Map Comment = MC These follow if they exist
Track File = TF These follow if they exist
Moving Map Parameters = MM? These follow if they exist
MM0,No
MMPNUM,20
MMPXY,1,115,75
MMPXY,2,1365,71
MMPXY,3,1389,291
MMPXY,4,1271,307
MMPXY,5,1217,434
MMPXY,6,1227,500
MMPXY,7,1107,685
MMPXY,8,764,537
MMPXY,9,714,437
MMPXY,10,671,250
MMPXY,11,489,372
MMPXY,12,498,669
MMPXY,13,388,853
MMPXY,14,393,1119
MMPXY,15,372,1325
MMPXY,16,369,1751
MMPXY,17,457,2293
MMPXY,18,428,2498
MMPXY,19,320,2571
MMPXY,20,110,2496
MMPLL,1,40.154222,53.414080
MMPLL,2,40.420804,53.413978
MMPLL,3,40.426019,53.385746
MMPLL,4,40.400860,53.383752
MMPLL,5,40.389399,53.367488
MMPLL,6,40.391561,53.359017
MMPLL,7,40.366050,53.335346
MMPLL,8,40.292834,53.354499
MMPLL,9,40.282127,53.367351
MMPLL,10,40.272875,53.391359
MMPLL,11,40.234114,53.375799
MMPLL,12,40.236163,53.337698
MMPLL,13,40.212784,53.314150
MMPLL,14,40.213967,53.280027
MMPLL,15,40.209579,53.253614
MMPLL,16,40.209125,53.198971
MMPLL,17,40.228130,53.129405
MMPLL,18,40.222035,53.103123
MMPLL,19,40.199034,53.093812
MMPLL,20,40.154215,53.103536
MM1B,14.241349
MOP,Map Open Position,0,0
IWH,Map Image Width/Height,2035,3257
