OziExplorer Map Data File Version 2.2
Ð_141_sob_2.jpg
Ð_141_SOB_2.ozf2
1 ,Map Code,
WGS 84,WGS 84, 0.0000, 0.0000,WGS 84
Reserved 1
Reserved 2
Magnetic Variation,,,E
Map Projection,Latitude/Longitude,PolyCal,No,AutoCalOnly,No,BSBUseWPX,No
Point01,xy, 432, 321,in, deg, 53, 50,N, 41,19.2666667,E, grid, , , ,N
Point02,xy, 1197, 293,in, deg, 53, 50,N, 41,29.2666667,E, grid, , , ,N
Point03,xy, 1260, 2265,in, deg, 53, 35,N, 41,29.2666667,E, grid, , , ,N
Point04,xy, 518, 3596,in, deg, 53, 25,N, 41,19.2666667,E, grid, , , ,N
Point05,xy, , ,in, deg, , ,N, , ,E, grid, , , ,N
Point06,xy, , ,in, deg, , ,N, , ,E, grid, , , ,N
Point07,xy, , ,in, deg, , ,N, , ,E, grid, , , ,N
Point08,xy, , ,in, deg, , ,N, , ,E, grid, , , ,N
Point09,xy, , ,in, deg, , ,N, , ,E, grid, , , ,N
Point10,xy, , ,in, deg, , ,, , ,, grid, , , ,
Point11,xy, , ,in, deg, , ,, , ,, grid, , , ,
Point12,xy, , ,in, deg, , ,, , ,, grid, , , ,
Point13,xy, , ,in, deg, , ,, , ,, grid, , , ,
Point14,xy, , ,in, deg, , ,, , ,, grid, , , ,
Point15,xy, , ,in, deg, , ,, , ,, grid, , , ,
Point16,xy, , ,in, deg, , ,, , ,, grid, , , ,
Point17,xy, , ,in, deg, , ,, , ,, grid, , , ,
Point18,xy, , ,in, deg, , ,, , ,, grid, , , ,
Point19,xy, , ,in, deg, , ,, , ,, grid, , , ,
Point20,xy, , ,in, deg, , ,, , ,, grid, , , ,
Point21,xy, , ,in, deg, , ,, , ,, grid, , , ,
Point22,xy, , ,in, deg, , ,, , ,, grid, , , ,
Point23,xy, , ,in, deg, , ,, , ,, grid, , , ,
Point24,xy, , ,in, deg, , ,, , ,, grid, , , ,
Point25,xy, , ,in, deg, , ,, , ,, grid, , , ,
Point26,xy, , ,in, deg, , ,, , ,, grid, , , ,
Point27,xy, , ,in, deg, , ,, , ,, grid, , , ,
Point28,xy, , ,in, deg, , ,, , ,, grid, , , ,
Point29,xy, , ,in, deg, , ,, , ,, grid, , , ,
Point30,xy, , ,in, deg, , ,, , ,, grid, , , ,
Projection Setup, 0.000000000, 39.000000000, 1.000000000, 500000.00, 0.00,,,,,
Map Feature = MF ; Map Comment = MC These follow if they exist
Track File = TF These follow if they exist
Moving Map Parameters = MM? These follow if they exist
MM0,Yes
MMPNUM,12
MMPXY,1,146,460
MMPXY,2,476,552
MMPXY,3,591,503
MMPXY,4,709,568
MMPXY,5,695,1834
MMPXY,6,637,2766
MMPXY,7,437,2766
MMPXY,8,297,2854
MMPXY,9,176,2874
MMPXY,10,232,2988
MMPXY,11,232,3188
MMPXY,12,135,3159
MMPLL,1,41.259097,53.816599
MMPLL,2,41.329755,53.803618
MMPLL,3,41.354864,53.809389
MMPLL,4,41.379937,53.800670
MMPLL,5,41.369330,53.639947
MMPLL,6,41.351230,53.521813
MMPLL,7,41.308073,53.522599
MMPLL,8,41.277335,53.511973
MMPLL,9,41.251105,53.509909
MMPLL,10,41.262506,53.495211
MMPLL,11,41.261308,53.469812
MMPLL,12,41.240550,53.473876
MM1B,14.280078
MOP,Map Open Position,0,0
IWH,Map Image Width/Height,1283,3788
