OziExplorer Map Data File Version 2.2
Ð_141_sob_1.jpg
Ð_141_SOB_1.ozf2
1 ,Map Code,
WGS 84,, 0.0000, 0.0000,WGS 84
Reserved 1
Reserved 2
Magnetic Variation,,,E
Map Projection,Latitude/Longitude,PolyCal,No,AutoCalOnly,No,BSBUseWPX,No
Point01,xy, 866, 382,in, deg, 53, 50,N, 40,19.2666667,E, grid, , , ,N
Point02,xy, 4689, 361,in, deg, 53, 50,N, 41,9.26666667,E, grid, , , ,N
Point03,xy, 4760, 3622,in, deg, 53, 25,N, 41,9.26666667,E, grid, , , ,N
Point04,xy, 876, 3646,in, deg, 53, 25,N, 40,19.2666667,E, grid, , , ,N
Point05,xy, , ,in, deg, , ,N, , ,E, grid, , , ,N
Point06,xy, , ,in, deg, , ,N, , ,E, grid, , , ,N
Point07,xy, , ,in, deg, , ,N, , ,E, grid, , , ,N
Point08,xy, , ,in, deg, , ,N, , ,E, grid, , , ,N
Point09,xy, , ,in, deg, , ,N, , ,E, grid, , , ,N
Point10,xy, , ,in, deg, , ,, , ,, grid, , , ,
Point11,xy, , ,in, deg, , ,, , ,, grid, , , ,
Point12,xy, , ,in, deg, , ,, , ,, grid, , , ,
Point13,xy, , ,in, deg, , ,, , ,, grid, , , ,
Point14,xy, , ,in, deg, , ,, , ,, grid, , , ,
Point15,xy, , ,in, deg, , ,, , ,, grid, , , ,
Point16,xy, , ,in, deg, , ,, , ,, grid, , , ,
Point17,xy, , ,in, deg, , ,, , ,, grid, , , ,
Point18,xy, , ,in, deg, , ,, , ,, grid, , , ,
Point19,xy, , ,in, deg, , ,, , ,, grid, , , ,
Point20,xy, , ,in, deg, , ,, , ,, grid, , , ,
Point21,xy, , ,in, deg, , ,, , ,, grid, , , ,
Point22,xy, , ,in, deg, , ,, , ,, grid, , , ,
Point23,xy, , ,in, deg, , ,, , ,, grid, , , ,
Point24,xy, , ,in, deg, , ,, , ,, grid, , , ,
Point25,xy, , ,in, deg, , ,, , ,, grid, , , ,
Point26,xy, , ,in, deg, , ,, , ,, grid, , , ,
Point27,xy, , ,in, deg, , ,, , ,, grid, , , ,
Point28,xy, , ,in, deg, , ,, , ,, grid, , , ,
Point29,xy, , ,in, deg, , ,, , ,, grid, , , ,
Point30,xy, , ,in, deg, , ,, , ,, grid, , , ,
Projection Setup, 0.000000000, 39.000000000, 1.000000000, 500000.00, 0.00,,,,,
Map Feature = MF ; Map Comment = MC These follow if they exist
Track File = TF These follow if they exist
Moving Map Parameters = MM? These follow if they exist
MM0,Yes
MMPNUM,27
MMPXY,1,105,71
MMPXY,2,4942,75
MMPXY,3,4939,247
MMPXY,4,4873,410
MMPXY,5,5169,478
MMPXY,6,5156,3186
MMPXY,7,4935,3213
MMPXY,8,4905,3451
MMPXY,9,4713,3644
MMPXY,10,4504,3549
MMPXY,11,4165,3531
MMPXY,12,4205,3347
MMPXY,13,4171,3181
MMPXY,14,3999,3056
MMPXY,15,3327,2929
MMPXY,16,3227,2762
MMPXY,17,3042,2658
MMPXY,18,2641,2608
MMPXY,19,2436,2750
MMPXY,20,2262,3137
MMPXY,21,2006,3152
MMPXY,22,1634,3252
MMPXY,23,1383,3090
MMPXY,24,1395,3209
MMPXY,25,1314,3301
MMPXY,26,1337,3669
MMPXY,27,95,3666
MMPLL,1,40.160689,53.873701
MMPLL,2,41.206621,53.869584
MMPLL,3,41.205510,53.847621
MMPLL,4,41.190801,53.826854
MMPLL,5,41.254625,53.817950
MMPLL,6,41.244545,53.472135
MMPLL,7,41.196684,53.468852
MMPLL,8,41.189558,53.438480
MMPLL,9,41.147522,53.413977
MMPLL,10,41.102583,53.426264
MMPLL,11,41.029327,53.428816
MMPLL,12,41.038470,53.452284
MMPLL,13,41.031564,53.473508
MMPLL,14,40.994706,53.489599
MMPLL,15,40.849735,53.506319
MMPLL,16,40.828560,53.527720
MMPLL,17,40.788835,53.541139
MMPLL,18,40.702258,53.547824
MMPLL,19,40.657548,53.529842
MMPLL,20,40.618884,53.480550
MMPLL,21,40.563486,53.478826
MMPLL,22,40.482777,53.466333
MMPLL,23,40.428937,53.487208
MMPLL,24,40.431212,53.472002
MMPLL,25,40.413450,53.460314
MMPLL,26,40.417435,53.413301
MMPLL,27,40.148876,53.414611
MM1B,14.297626
MOP,Map Open Position,0,0
IWH,Map Image Width/Height,5290,3829
