OziExplorer Map Data File Version 2.2
Ð_140_soa_2.jpg
Ð_140_SOA_2.ozf2
1 ,Map Code,
WGS 84,, 0.0000, 0.0000,WGS 84
Reserved 1
Reserved 2
Magnetic Variation,,,E
Map Projection,Latitude/Longitude,PolyCal,No,AutoCalOnly,No,BSBUseWPX,No
Point01,xy, 319, 647,in, deg, 54, 15,N, 41,19.2666667,E, grid, , , ,N
Point02,xy, 1083, 621,in, deg, 54, 15,N, 41,29.2666667,E, grid, , , ,N
Point03,xy, 1119, 3256,in, deg, 53, 55,N, 41,29.2666667,E, grid, , , ,N
Point04,xy, 354, 3274,in, deg, 53, 55,N, 41,19.2666667,E, grid, , , ,N
Point05,xy, , ,in, deg, , ,N, , ,E, grid, , , ,N
Point06,xy, , ,in, deg, , ,N, , ,E, grid, , , ,N
Point07,xy, , ,in, deg, , ,N, , ,E, grid, , , ,N
Point08,xy, , ,in, deg, , ,N, , ,E, grid, , , ,N
Point09,xy, , ,in, deg, , ,N, , ,E, grid, , , ,N
Point10,xy, , ,in, deg, , ,, , ,, grid, , , ,
Point11,xy, , ,in, deg, , ,, , ,, grid, , , ,
Point12,xy, , ,in, deg, , ,, , ,, grid, , , ,
Point13,xy, , ,in, deg, , ,, , ,, grid, , , ,
Point14,xy, , ,in, deg, , ,, , ,, grid, , , ,
Point15,xy, , ,in, deg, , ,, , ,, grid, , , ,
Point16,xy, , ,in, deg, , ,, , ,, grid, , , ,
Point17,xy, , ,in, deg, , ,, , ,, grid, , , ,
Point18,xy, , ,in, deg, , ,, , ,, grid, , , ,
Point19,xy, , ,in, deg, , ,, , ,, grid, , , ,
Point20,xy, , ,in, deg, , ,, , ,, grid, , , ,
Point21,xy, , ,in, deg, , ,, , ,, grid, , , ,
Point22,xy, , ,in, deg, , ,, , ,, grid, , , ,
Point23,xy, , ,in, deg, , ,, , ,, grid, , , ,
Point24,xy, , ,in, deg, , ,, , ,, grid, , , ,
Point25,xy, , ,in, deg, , ,, , ,, grid, , , ,
Point26,xy, , ,in, deg, , ,, , ,, grid, , , ,
Point27,xy, , ,in, deg, , ,, , ,, grid, , , ,
Point28,xy, , ,in, deg, , ,, , ,, grid, , , ,
Point29,xy, , ,in, deg, , ,, , ,, grid, , , ,
Point30,xy, , ,in, deg, , ,, , ,, grid, , , ,
Projection Setup, 0.000000000, 39.000000000, 1.000000000, 500000.00, 0.00,,,,,
Map Feature = MF ; Map Comment = MC These follow if they exist
Track File = TF These follow if they exist
Moving Map Parameters = MM? These follow if they exist
MM0,Yes
MMPNUM,26
MMPXY,1,70,46
MMPXY,2,952,44
MMPXY,3,1125,289
MMPXY,4,1169,624
MMPXY,5,1181,885
MMPXY,6,878,890
MMPXY,7,798,1021
MMPXY,8,966,1108
MMPXY,9,969,1257
MMPXY,10,867,1254
MMPXY,11,804,1345
MMPXY,12,687,1363
MMPXY,13,781,1688
MMPXY,14,912,1901
MMPXY,15,772,2065
MMPXY,16,813,2167
MMPXY,17,641,2211
MMPXY,18,514,2158
MMPXY,19,521,2284
MMPXY,20,478,2310
MMPXY,21,516,2397
MMPXY,22,398,2536
MMPXY,23,264,2594
MMPXY,24,184,2599
MMPXY,25,145,2672
MMPXY,26,78,2668
MMPLL,1,41.268664,54.326767
MMPLL,2,41.460878,54.323806
MMPLL,3,41.497858,54.292147
MMPLL,4,41.506462,54.249561
MMPLL,5,41.508309,54.216463
MMPLL,6,41.442264,54.216934
MMPLL,7,41.424445,54.200635
MMPLL,8,41.460800,54.189004
MMPLL,9,41.461016,54.170123
MMPLL,10,41.438797,54.170875
MMPLL,11,41.424800,54.159580
MMPLL,12,41.399250,54.157727
MMPLL,13,41.418779,54.116224
MMPLL,14,41.446701,54.088771
MMPLL,15,41.415709,54.068512
MMPLL,16,41.424344,54.055444
MMPLL,17,41.386732,54.050499
MMPLL,18,41.359212,54.057674
MMPLL,19,41.360367,54.041691
MMPLL,20,41.350920,54.038555
MMPLL,21,41.358945,54.027398
MMPLL,22,41.332821,54.010225
MMPLL,23,41.303449,54.003368
MMPLL,24,41.286000,54.003026
MMPLL,25,41.277287,53.993923
MMPLL,26,41.262698,53.994674
MM1B,14.262688
MOP,Map Open Position,0,0
IWH,Map Image Width/Height,1754,3722
