OziExplorer Map Data File Version 2.2
Ð_140_soa_1.jpg
Ð_140_SOA_1.ozf2
1 ,Map Code,
WGS 84,WGS 84, 0.0000, 0.0000,WGS 84
Reserved 1
Reserved 2
Magnetic Variation,,,E
Map Projection,Latitude/Longitude,PolyCal,No,AutoCalOnly,No,BSBUseWPX,No
Point01,xy, 839, 756,in, deg, 54, 15,N, 40,19.8333333,E, grid, , , ,N
Point02,xy, 4628, 690,in, deg, 54, 15,N, 41,9.83333333,E, grid, , , ,N
Point03,xy, 4675, 3318,in, deg, 53, 55,N, 41,9.83333333,E, grid, , , ,N
Point04,xy, 862, 3363,in, deg, 53, 55,N, 40,19.8333333,E, grid, , , ,N
Point05,xy, , ,in, deg, , ,N, , ,E, grid, , , ,N
Point06,xy, , ,in, deg, , ,N, , ,E, grid, , , ,N
Point07,xy, , ,in, deg, , ,N, , ,E, grid, , , ,N
Point08,xy, , ,in, deg, , ,N, , ,E, grid, , , ,N
Point09,xy, , ,in, deg, , ,N, , ,E, grid, , , ,N
Point10,xy, , ,in, deg, , ,, , ,, grid, , , ,
Point11,xy, , ,in, deg, , ,, , ,, grid, , , ,
Point12,xy, , ,in, deg, , ,, , ,, grid, , , ,
Point13,xy, , ,in, deg, , ,, , ,, grid, , , ,
Point14,xy, , ,in, deg, , ,, , ,, grid, , , ,
Point15,xy, , ,in, deg, , ,, , ,, grid, , , ,
Point16,xy, , ,in, deg, , ,, , ,, grid, , , ,
Point17,xy, , ,in, deg, , ,, , ,, grid, , , ,
Point18,xy, , ,in, deg, , ,, , ,, grid, , , ,
Point19,xy, , ,in, deg, , ,, , ,, grid, , , ,
Point20,xy, , ,in, deg, , ,, , ,, grid, , , ,
Point21,xy, , ,in, deg, , ,, , ,, grid, , , ,
Point22,xy, , ,in, deg, , ,, , ,, grid, , , ,
Point23,xy, , ,in, deg, , ,, , ,, grid, , , ,
Point24,xy, , ,in, deg, , ,, , ,, grid, , , ,
Point25,xy, , ,in, deg, , ,, , ,, grid, , , ,
Point26,xy, , ,in, deg, , ,, , ,, grid, , , ,
Point27,xy, , ,in, deg, , ,, , ,, grid, , , ,
Point28,xy, , ,in, deg, , ,, , ,, grid, , , ,
Point29,xy, , ,in, deg, , ,, , ,, grid, , , ,
Point30,xy, , ,in, deg, , ,, , ,, grid, , , ,
Projection Setup, 0.000000000, 39.000000000, 1.000000000, 500000.00, 0.00,,,,,
Map Feature = MF ; Map Comment = MC These follow if they exist
Track File = TF These follow if they exist
Moving Map Parameters = MM? These follow if they exist
MM0,Yes
MMPNUM,7
MMPXY,1,74,115
MMPXY,2,5136,68
MMPXY,3,5157,2982
MMPXY,4,5013,3021
MMPXY,5,5042,3256
MMPXY,6,4930,3675
MMPXY,7,98,3709
MMPLL,1,40.166048,54.332357
MMPLL,2,41.275765,54.328930
MMPLL,3,41.271827,53.957872
MMPLL,4,41.240148,53.953174
MMPLL,5,41.245816,53.923199
MMPLL,6,41.220038,53.870059
MMPLL,7,40.160775,53.874713
MM1B,14.337714
MOP,Map Open Position,0,0
IWH,Map Image Width/Height,5266,3841
