OziExplorer Map Data File Version 2.2
Ð_138_nob_2.jpg
Ð_138_NOB_2.ozf2
1 ,Map Code,
WGS 84,WGS 84, 0.0000, 0.0000,WGS 84
Reserved 1
Reserved 2
Magnetic Variation,,,E
Map Projection,Latitude/Longitude,PolyCal,No,AutoCalOnly,No,BSBUseWPX,No
Point01,xy, 358, 937,in, deg, 55, 10,N, 41,19.8333333,E, grid, , , ,N
Point02,xy, 2344, 930,in, deg, 55, 10,N, 41,39.8333333,E, grid, , , ,N
Point03,xy, 2484, 4450,in, deg, 54, 50,N, 41,39.8333333,E, grid, , , ,N
Point04,xy, 464, 4439,in, deg, 54, 50,N, 41,19.8333333,E, grid, , , ,N
Point05,xy, , ,in, deg, , ,N, , ,E, grid, , , ,N
Point06,xy, , ,in, deg, , ,N, , ,E, grid, , , ,N
Point07,xy, , ,in, deg, , ,N, , ,E, grid, , , ,N
Point08,xy, , ,in, deg, , ,N, , ,E, grid, , , ,N
Point09,xy, , ,in, deg, , ,N, , ,E, grid, , , ,N
Point10,xy, , ,in, deg, , ,, , ,, grid, , , ,
Point11,xy, , ,in, deg, , ,, , ,, grid, , , ,
Point12,xy, , ,in, deg, , ,, , ,, grid, , , ,
Point13,xy, , ,in, deg, , ,, , ,, grid, , , ,
Point14,xy, , ,in, deg, , ,, , ,, grid, , , ,
Point15,xy, , ,in, deg, , ,, , ,, grid, , , ,
Point16,xy, , ,in, deg, , ,, , ,, grid, , , ,
Point17,xy, , ,in, deg, , ,, , ,, grid, , , ,
Point18,xy, , ,in, deg, , ,, , ,, grid, , , ,
Point19,xy, , ,in, deg, , ,, , ,, grid, , , ,
Point20,xy, , ,in, deg, , ,, , ,, grid, , , ,
Point21,xy, , ,in, deg, , ,, , ,, grid, , , ,
Point22,xy, , ,in, deg, , ,, , ,, grid, , , ,
Point23,xy, , ,in, deg, , ,, , ,, grid, , , ,
Point24,xy, , ,in, deg, , ,, , ,, grid, , , ,
Point25,xy, , ,in, deg, , ,, , ,, grid, , , ,
Point26,xy, , ,in, deg, , ,, , ,, grid, , , ,
Point27,xy, , ,in, deg, , ,, , ,, grid, , , ,
Point28,xy, , ,in, deg, , ,, , ,, grid, , , ,
Point29,xy, , ,in, deg, , ,, , ,, grid, , , ,
Point30,xy, , ,in, deg, , ,, , ,, grid, , , ,
Projection Setup, 0.000000000, 39.000000000, 1.000000000, 500000.00, 0.00,,,,,
Map Feature = MF ; Map Comment = MC These follow if they exist
Track File = TF These follow if they exist
Moving Map Parameters = MM? These follow if they exist
MM0,Yes
MMPNUM,40
MMPXY,1,194,1489
MMPXY,2,267,1429
MMPXY,3,229,1333
MMPXY,4,278,939
MMPXY,5,544,815
MMPXY,6,739,927
MMPXY,7,818,906
MMPXY,8,883,1028
MMPXY,9,1036,1152
MMPXY,10,1267,1029
MMPXY,11,1413,855
MMPXY,12,1723,847
MMPXY,13,1873,1000
MMPXY,14,2038,1003
MMPXY,15,2187,1071
MMPXY,16,2224,1337
MMPXY,17,2200,1510
MMPXY,18,2080,1550
MMPXY,19,2082,1668
MMPXY,20,2172,1807
MMPXY,21,2083,2083
MMPXY,22,2181,2356
MMPXY,23,1795,2571
MMPXY,24,1797,2687
MMPXY,25,1593,2938
MMPXY,26,1880,3056
MMPXY,27,2015,3162
MMPXY,28,2105,3380
MMPXY,29,2012,3478
MMPXY,30,2071,3626
MMPXY,31,1847,3669
MMPXY,32,1838,3786
MMPXY,33,1958,4022
MMPXY,34,1802,4180
MMPXY,35,1845,4515
MMPXY,36,1791,4597
MMPXY,37,1915,4671
MMPXY,38,1833,4883
MMPXY,39,1937,4938
MMPXY,40,195,4930
MMPLL,1,41.301432,55.113816
MMPLL,2,41.313931,55.119520
MMPLL,3,41.308167,55.128631
MMPLL,4,41.318618,55.166043
MMPLL,5,41.363610,55.177841
MMPLL,6,41.395409,55.167226
MMPLL,7,41.408679,55.169227
MMPLL,8,41.418785,55.157650
MMPLL,9,41.443525,55.145892
MMPLL,10,41.482686,55.157592
MMPLL,11,41.507998,55.174126
MMPLL,12,41.559636,55.174915
MMPLL,13,41.583707,55.160402
MMPLL,14,41.611150,55.160133
MMPLL,15,41.635550,55.153691
MMPLL,16,41.640157,55.128440
MMPLL,17,41.635154,55.112012
MMPLL,18,41.614950,55.108203
MMPLL,19,41.614595,55.097000
MMPLL,20,41.628763,55.083812
MMPLL,21,41.612342,55.057599
MMPLL,22,41.627060,55.031689
MMPLL,23,41.561567,55.011240
MMPLL,24,41.561223,55.000226
MMPLL,25,41.525810,54.976376
MMPLL,26,41.572885,54.965200
MMPLL,27,41.594734,54.955149
MMPLL,28,41.608441,54.934460
MMPLL,29,41.592393,54.925147
MMPLL,30,41.601349,54.911101
MMPLL,31,41.563819,54.906997
MMPLL,32,41.561639,54.895888
MMPLL,33,41.580234,54.873493
MMPLL,34,41.553351,54.858477
MMPLL,35,41.558554,54.826675
MMPLL,36,41.549089,54.818885
MMPLL,37,41.569294,54.811871
MMPLL,38,41.554411,54.791735
MMPLL,39,41.571399,54.786523
MMPLL,40,41.281537,54.787117
MM1B,10.639584
MOP,Map Open Position,0,0
IWH,Map Image Width/Height,3372,5203
