OziExplorer Map Data File Version 2.2
Ð_136_swc_1.jpg
Ð_136_SWC_1.ozf2
1 ,Map Code,
WGS 84,WGS 84, 0.0000, 0.0000,WGS 84
Reserved 1
Reserved 2
Magnetic Variation,,,E
Map Projection,Latitude/Longitude,PolyCal,No,AutoCalOnly,No,BSBUseWPX,No
Point01,xy, 513, 657,in, deg, 53, 20,N, 39,9.26666667,E, grid, , , ,N
Point02,xy, 4401, 710,in, deg, 53, 20,N, 39,59.2666667,E, grid, , , ,N
Point03,xy, 4393, 3297,in, deg, 53, 0,N, 39,59.2666667,E, grid, , , ,N
Point04,xy, 451, 3275,in, deg, 53, 0,N, 39,9.26666667,E, grid, , , ,N
Point05,xy, , ,in, deg, , ,N, , ,E, grid, , , ,N
Point06,xy, , ,in, deg, , ,N, , ,E, grid, , , ,N
Point07,xy, , ,in, deg, , ,N, , ,E, grid, , , ,N
Point08,xy, , ,in, deg, , ,N, , ,E, grid, , , ,N
Point09,xy, , ,in, deg, , ,N, , ,E, grid, , , ,N
Point10,xy, , ,in, deg, , ,, , ,, grid, , , ,
Point11,xy, , ,in, deg, , ,, , ,, grid, , , ,
Point12,xy, , ,in, deg, , ,, , ,, grid, , , ,
Point13,xy, , ,in, deg, , ,, , ,, grid, , , ,
Point14,xy, , ,in, deg, , ,, , ,, grid, , , ,
Point15,xy, , ,in, deg, , ,, , ,, grid, , , ,
Point16,xy, , ,in, deg, , ,, , ,, grid, , , ,
Point17,xy, , ,in, deg, , ,, , ,, grid, , , ,
Point18,xy, , ,in, deg, , ,, , ,, grid, , , ,
Point19,xy, , ,in, deg, , ,, , ,, grid, , , ,
Point20,xy, , ,in, deg, , ,, , ,, grid, , , ,
Point21,xy, , ,in, deg, , ,, , ,, grid, , , ,
Point22,xy, , ,in, deg, , ,, , ,, grid, , , ,
Point23,xy, , ,in, deg, , ,, , ,, grid, , , ,
Point24,xy, , ,in, deg, , ,, , ,, grid, , , ,
Point25,xy, , ,in, deg, , ,, , ,, grid, , , ,
Point26,xy, , ,in, deg, , ,, , ,, grid, , , ,
Point27,xy, , ,in, deg, , ,, , ,, grid, , , ,
Point28,xy, , ,in, deg, , ,, , ,, grid, , , ,
Point29,xy, , ,in, deg, , ,, , ,, grid, , , ,
Point30,xy, , ,in, deg, , ,, , ,, grid, , , ,
Projection Setup, 0.000000000, 39.000000000, 1.000000000, 500000.00, 0.00,,,,,
Map Feature = MF ; Map Comment = MC These follow if they exist
Track File = TF These follow if they exist
Moving Map Parameters = MM? These follow if they exist
MM0,Yes
MMPNUM,44
MMPXY,1,124,66
MMPXY,2,5187,78
MMPXY,3,5179,2520
MMPXY,4,5102,2549
MMPXY,5,5179,2910
MMPXY,6,5168,2982
MMPXY,7,5031,3164
MMPXY,8,4834,3259
MMPXY,9,4703,3192
MMPXY,10,4587,2893
MMPXY,11,4740,2857
MMPXY,12,4701,2827
MMPXY,13,4701,2627
MMPXY,14,4523,2721
MMPXY,15,4515,2840
MMPXY,16,4249,2897
MMPXY,17,4312,3051
MMPXY,18,4334,3443
MMPXY,19,4248,3487
MMPXY,20,4050,3286
MMPXY,21,3877,3224
MMPXY,22,3864,3306
MMPXY,23,3720,3367
MMPXY,24,3515,3341
MMPXY,25,3387,3312
MMPXY,26,2871,3064
MMPXY,27,2683,2996
MMPXY,28,2573,2925
MMPXY,29,2440,3009
MMPXY,30,2246,3001
MMPXY,31,2149,2923
MMPXY,32,2261,2643
MMPXY,33,2362,2646
MMPXY,34,2416,2386
MMPXY,35,2330,2277
MMPXY,36,2231,2448
MMPXY,37,1626,2326
MMPXY,38,1416,2233
MMPXY,39,1157,2267
MMPXY,40,1133,2103
MMPXY,41,846,2087
MMPXY,42,350,2224
MMPXY,43,371,2299
MMPXY,44,112,2568
MMPLL,1,39.072813,53.409552
MMPLL,2,40.150402,53.414226
MMPLL,3,40.155689,53.101480
MMPLL,4,40.139384,53.097672
MMPLL,5,40.156805,53.051535
MMPLL,6,40.154670,53.042300
MMPLL,7,40.126033,53.018824
MMPLL,8,40.084378,53.006417
MMPLL,9,40.056305,53.014836
MMPLL,10,40.030761,53.052985
MMPLL,11,40.063221,53.057784
MMPLL,12,40.054835,53.061578
MMPLL,13,40.054262,53.087191
MMPLL,14,40.016648,53.074934
MMPLL,15,40.015286,53.059685
MMPLL,16,39.958836,53.052059
MMPLL,17,39.972686,53.032414
MMPLL,18,39.978490,52.982239
MMPLL,19,39.960312,52.976499
MMPLL,20,39.917597,53.001997
MMPLL,21,39.880600,53.009725
MMPLL,22,39.878068,52.999208
MMPLL,23,39.847595,52.991219
MMPLL,24,39.803891,52.994297
MMPLL,25,39.776566,52.997854
MMPLL,26,39.666036,53.028981
MMPLL,27,39.625829,53.037459
MMPLL,28,39.602215,53.046417
MMPLL,29,39.574149,53.035496
MMPLL,30,39.532837,53.036283
MMPLL,31,39.511970,53.046153
MMPLL,32,39.535005,53.082149
MMPLL,33,39.556510,53.081888
MMPLL,34,39.567258,53.115252
MMPLL,35,39.548643,53.129105
MMPLL,36,39.528062,53.107085
MMPLL,37,39.398951,53.121966
MMPLL,38,39.353991,53.133619
MMPLL,39,39.298966,53.128947
MMPLL,40,39.293388,53.149920
MMPLL,41,39.232261,53.151617
MMPLL,42,39.127089,53.133464
MMPLL,43,39.131774,53.123885
MMPLL,44,39.077421,53.089117
MM1B,14.223093
MOP,Map Open Position,0,0
IWH,Map Image Width/Height,5311,3815
