OziExplorer Map Data File Version 2.2
Ð_135_swb_2.jpg
Ð_135_SWB_2.ozf2
1 ,Map Code,
WGS 84,WGS 84, 0.0000, 0.0000,WGS 84
Reserved 1
Reserved 2
Magnetic Variation,,,E
Map Projection,Latitude/Longitude,PolyCal,No,AutoCalOnly,No,BSBUseWPX,No
Point01,xy, 935, 319,in, deg, 53, 50,N, 38,49.2666667,E, grid, , , ,N
Point02,xy, 1701, 327,in, deg, 53, 50,N, 38,59.2666667,E, grid, , , ,N
Point03,xy, 1638, 3575,in, deg, 53, 25,N, 38,59.2666667,E, grid, , , ,N
Point04,xy, 74, 3567,in, deg, 53, 25,N, 38,39.2666667,E, grid, , , ,N
Point05,xy, , ,in, deg, , ,N, , ,E, grid, , , ,N
Point06,xy, , ,in, deg, , ,N, , ,E, grid, , , ,N
Point07,xy, , ,in, deg, , ,N, , ,E, grid, , , ,N
Point08,xy, , ,in, deg, , ,N, , ,E, grid, , , ,N
Point09,xy, , ,in, deg, , ,N, , ,E, grid, , , ,N
Point10,xy, , ,in, deg, , ,, , ,, grid, , , ,
Point11,xy, , ,in, deg, , ,, , ,, grid, , , ,
Point12,xy, , ,in, deg, , ,, , ,, grid, , , ,
Point13,xy, , ,in, deg, , ,, , ,, grid, , , ,
Point14,xy, , ,in, deg, , ,, , ,, grid, , , ,
Point15,xy, , ,in, deg, , ,, , ,, grid, , , ,
Point16,xy, , ,in, deg, , ,, , ,, grid, , , ,
Point17,xy, , ,in, deg, , ,, , ,, grid, , , ,
Point18,xy, , ,in, deg, , ,, , ,, grid, , , ,
Point19,xy, , ,in, deg, , ,, , ,, grid, , , ,
Point20,xy, , ,in, deg, , ,, , ,, grid, , , ,
Point21,xy, , ,in, deg, , ,, , ,, grid, , , ,
Point22,xy, , ,in, deg, , ,, , ,, grid, , , ,
Point23,xy, , ,in, deg, , ,, , ,, grid, , , ,
Point24,xy, , ,in, deg, , ,, , ,, grid, , , ,
Point25,xy, , ,in, deg, , ,, , ,, grid, , , ,
Point26,xy, , ,in, deg, , ,, , ,, grid, , , ,
Point27,xy, , ,in, deg, , ,, , ,, grid, , , ,
Point28,xy, , ,in, deg, , ,, , ,, grid, , , ,
Point29,xy, , ,in, deg, , ,, , ,, grid, , , ,
Point30,xy, , ,in, deg, , ,, , ,, grid, , , ,
Projection Setup, 0.000000000, 39.000000000, 1.000000000, 500000.00, 0.00,,,,,
Map Feature = MF ; Map Comment = MC These follow if they exist
Track File = TF These follow if they exist
Moving Map Parameters = MM? These follow if they exist
MM0,Yes
MMPNUM,23
MMPXY,1,1531,46
MMPXY,2,1988,44
MMPXY,3,2018,3646
MMPXY,4,563,3661
MMPXY,5,410,3363
MMPXY,6,400,3194
MMPXY,7,286,3025
MMPXY,8,408,2686
MMPXY,9,788,2485
MMPXY,10,1197,2416
MMPXY,11,1261,2291
MMPXY,12,1417,2294
MMPXY,13,1419,1945
MMPXY,14,1249,1498
MMPXY,15,1601,1452
MMPXY,16,1578,1331
MMPXY,17,1454,1317
MMPXY,18,1405,1172
MMPXY,19,1431,1016
MMPXY,20,1330,825
MMPXY,21,1457,541
MMPXY,22,1431,352
MMPXY,23,1503,197
MMPLL,1,38.948697,53.869005
MMPLL,2,39.046474,53.869623
MMPLL,3,39.070109,53.407972
MMPLL,4,38.758847,53.404900
MMPLL,5,38.724684,53.442974
MMPLL,6,38.721737,53.464627
MMPLL,7,38.696536,53.486198
MMPLL,8,38.721021,53.529745
MMPLL,9,38.801371,53.555807
MMPLL,10,38.888557,53.564974
MMPLL,11,38.901654,53.581046
MMPLL,12,38.935048,53.580785
MMPLL,13,38.933808,53.625519
MMPLL,14,38.895296,53.682677
MMPLL,15,38.970395,53.688851
MMPLL,16,38.964895,53.704342
MMPLL,17,38.938296,53.706038
MMPLL,18,38.927118,53.724584
MMPLL,19,38.931936,53.744600
MMPLL,20,38.909411,53.769001
MMPLL,21,38.935229,53.805502
MMPLL,22,38.928762,53.829706
MMPLL,23,38.943428,53.849629
MM1B,14.148274
MOP,Map Open Position,0,0
IWH,Map Image Width/Height,2141,3729
