OziExplorer Map Data File Version 2.2
Ð_134_swa_1.jpg
d:\maps\pics\OldMaps\1862\Riasan\Ð_134_SWA_1.ozf2
1 ,Map Code,
WGS 84,WGS 84, 0.0000, 0.0000,WGS 84
Reserved 1
Reserved 2
Magnetic Variation,,,E
Map Projection,Latitude/Longitude,PolyCal,No,AutoCalOnly,No,BSBUseWPX,No
Point01,xy, 617, 148,in, deg, 54,19.2108467,N, 39,9.85465167,E, grid, , , ,N
Point02,xy, 4955, 357,in, deg, 54,17.8267267,N, 40,6.57462833,E, grid, , , ,N
Point03,xy, 5101, 3395,in, deg, 53,54.6161783,N, 40,8.87014333,E, grid, , , ,N
Point04,xy, 232, 3184,in, deg, 53,55.7025583,N, 39,5.10355167,E, grid, , , ,N
Point05,xy, 2520, 1863,in, deg, 54, 6.46702,N, 39, 34.7279,E, grid, , , ,N
Point06,xy, 4895, 1757,in, deg, 54,6.944125,N, 40,6.00537667,E, grid, , , ,N
Point07,xy, 2523, 3547,in, deg, 53,53.231125,N, 39,35.210145,E, grid, , , ,N
Point08,xy, 264, 1741,in, deg, 54,7.07808667,N, 39,5.36934333,E, grid, , , ,N
Point09,xy, 2285, 121,in, deg, 54,19.339915,N, 39,31.7957617,E, grid, , , ,N
Point10,xy, , ,in, deg, , ,N, , ,W, grid, , , ,N
Point11,xy, , ,in, deg, , ,N, , ,W, grid, , , ,N
Point12,xy, , ,in, deg, , ,N, , ,W, grid, , , ,N
Point13,xy, , ,in, deg, , ,N, , ,W, grid, , , ,N
Point14,xy, , ,in, deg, , ,N, , ,W, grid, , , ,N
Point15,xy, , ,in, deg, , ,N, , ,W, grid, , , ,N
Point16,xy, , ,in, deg, , ,N, , ,W, grid, , , ,N
Point17,xy, , ,in, deg, , ,N, , ,W, grid, , , ,N
Point18,xy, , ,in, deg, , ,N, , ,W, grid, , , ,N
Point19,xy, , ,in, deg, , ,N, , ,W, grid, , , ,N
Point20,xy, , ,in, deg, , ,N, , ,W, grid, , , ,N
Point21,xy, , ,in, deg, , ,N, , ,W, grid, , , ,N
Point22,xy, , ,in, deg, , ,N, , ,W, grid, , , ,N
Point23,xy, , ,in, deg, , ,N, , ,W, grid, , , ,N
Point24,xy, , ,in, deg, , ,N, , ,W, grid, , , ,N
Point25,xy, , ,in, deg, , ,N, , ,W, grid, , , ,N
Point26,xy, , ,in, deg, , ,N, , ,W, grid, , , ,N
Point27,xy, , ,in, deg, , ,N, , ,W, grid, , , ,N
Point28,xy, , ,in, deg, , ,N, , ,W, grid, , , ,N
Point29,xy, , ,in, deg, , ,N, , ,W, grid, , , ,N
Point30,xy, , ,in, deg, , ,N, , ,W, grid, , , ,N
Projection Setup, 0.000000000, 39.000000000, 1.000000000, 500000.00, 0.00,,,,,
Map Feature = MF ; Map Comment = MC These follow if they exist
Track File = TF These follow if they exist
Moving Map Parameters = MM? These follow if they exist
MM0,Yes
MMPNUM,16
MMPXY,1,111,58
MMPXY,2,5183,73
MMPXY,3,5167,3679
MMPXY,4,5167,3679
MMPXY,5,95,3664
MMPXY,6,97,3521
MMPXY,7,205,3486
MMPXY,8,263,3446
MMPXY,9,292,3382
MMPXY,10,328,3284
MMPXY,11,274,3232
MMPXY,12,213,3221
MMPXY,13,165,3263
MMPXY,14,117,3312
MMPXY,15,106,3287
MMPXY,16,96,3193
MMPLL,1, 39.053540, 54.330866
MMPLL,2, 40.159679, 54.333573
MMPLL,3, 40.162314, 53.873005
MMPLL,4, 40.162314, 53.873005
MMPLL,5, 39.056175, 53.870298
MMPLL,6, 39.056369, 53.888563
MMPLL,7, 39.079862, 53.893132
MMPLL,8, 39.092443, 53.898294
MMPLL,9, 39.098659, 53.906494
MMPLL,10, 39.106343, 53.919043
MMPLL,11, 39.094478, 53.925635
MMPLL,12, 39.081157, 53.926985
MMPLL,13, 39.070760, 53.921577
MMPLL,14, 39.060375, 53.915275
MMPLL,15, 39.057934, 53.918458
MMPLL,16, 39.055593, 53.930454
MM1B,14.272918
MOP,Map Open Position,0,0
IWH,Map Image Width/Height,5309,3778
