OziExplorer Map Data File Version 2.2
Ð_133_nwa_2.jpg
Ð_133_NWA_2.ozf2
1 ,Map Code,
WGS 84,, 0.0000, 0.0000,WGS 84
Reserved 1
Reserved 2
Magnetic Variation,,,E
Map Projection,Latitude/Longitude,PolyCal,No,AutoCalOnly,No,BSBUseWPX,No
Point01,xy, 630, 346,in, deg, 54, 45,N, 38,39.2666667,E, grid, , , ,N
Point02,xy, 2169, 356,in, deg, 54, 45,N, 38,59.2666667,E, grid, , , ,N
Point03,xy, 2127, 3658,in, deg, 54, 20,N, 38,59.2666667,E, grid, , , ,N
Point04,xy, 581, 3659,in, deg, 54, 20,N, 38,39.2666667,E, grid, , , ,N
Point05,xy, , ,in, deg, , ,N, , ,E, grid, , , ,N
Point06,xy, , ,in, deg, , ,N, , ,E, grid, , , ,N
Point07,xy, , ,in, deg, , ,N, , ,E, grid, , , ,N
Point08,xy, , ,in, deg, , ,N, , ,E, grid, , , ,N
Point09,xy, , ,in, deg, , ,N, , ,E, grid, , , ,N
Point10,xy, , ,in, deg, , ,, , ,, grid, , , ,
Point11,xy, , ,in, deg, , ,, , ,, grid, , , ,
Point12,xy, , ,in, deg, , ,, , ,, grid, , , ,
Point13,xy, , ,in, deg, , ,, , ,, grid, , , ,
Point14,xy, , ,in, deg, , ,, , ,, grid, , , ,
Point15,xy, , ,in, deg, , ,, , ,, grid, , , ,
Point16,xy, , ,in, deg, , ,, , ,, grid, , , ,
Point17,xy, , ,in, deg, , ,, , ,, grid, , , ,
Point18,xy, , ,in, deg, , ,, , ,, grid, , , ,
Point19,xy, , ,in, deg, , ,, , ,, grid, , , ,
Point20,xy, , ,in, deg, , ,, , ,, grid, , , ,
Point21,xy, , ,in, deg, , ,, , ,, grid, , , ,
Point22,xy, , ,in, deg, , ,, , ,, grid, , , ,
Point23,xy, , ,in, deg, , ,, , ,, grid, , , ,
Point24,xy, , ,in, deg, , ,, , ,, grid, , , ,
Point25,xy, , ,in, deg, , ,, , ,, grid, , , ,
Point26,xy, , ,in, deg, , ,, , ,, grid, , , ,
Point27,xy, , ,in, deg, , ,, , ,, grid, , , ,
Point28,xy, , ,in, deg, , ,, , ,, grid, , , ,
Point29,xy, , ,in, deg, , ,, , ,, grid, , , ,
Point30,xy, , ,in, deg, , ,, , ,, grid, , , ,
Projection Setup, 0.000000000, 39.000000000, 1.000000000, 500000.00, 0.00,,,,,
Map Feature = MF ; Map Comment = MC These follow if they exist
Track File = TF These follow if they exist
Moving Map Parameters = MM? These follow if they exist
MM0,Yes
MMPNUM,29
MMPXY,1,262,69
MMPXY,2,2390,72
MMPXY,3,2381,3709
MMPXY,4,808,3700
MMPXY,5,701,3451
MMPXY,6,726,3276
MMPXY,7,870,2937
MMPXY,8,1013,2897
MMPXY,9,985,2664
MMPXY,10,1252,2303
MMPXY,11,1292,2098
MMPXY,12,1472,2032
MMPXY,13,1296,2017
MMPXY,14,1255,1912
MMPXY,15,1220,1630
MMPXY,16,1156,1661
MMPXY,17,1088,1430
MMPXY,18,1097,1294
MMPXY,19,1152,1214
MMPXY,20,1057,998
MMPXY,21,1134,782
MMPXY,22,941,676
MMPXY,23,786,475
MMPXY,24,500,598
MMPXY,25,400,597
MMPXY,26,273,409
MMPXY,27,87,263
MMPXY,28,185,184
MMPXY,29,185,90
MMPLL,1,38.574470,54.785106
MMPLL,2,39.034320,54.785510
MMPLL,3,39.043186,54.327349
MMPLL,4,38.703249,54.327905
MMPLL,5,38.679387,54.359232
MMPLL,6,38.684269,54.381287
MMPLL,7,38.714378,54.424044
MMPLL,8,38.745160,54.429135
MMPLL,9,38.738417,54.458476
MMPLL,10,38.795040,54.504050
MMPLL,11,38.803075,54.529889
MMPLL,12,38.841775,54.538269
MMPLL,13,38.803698,54.540094
MMPLL,14,38.794526,54.553306
MMPLL,15,38.786125,54.588817
MMPLL,16,38.772387,54.584888
MMPLL,17,38.757006,54.613963
MMPLL,18,38.758547,54.631098
MMPLL,19,38.770194,54.641196
MMPLL,20,38.749023,54.668371
MMPLL,21,38.765020,54.695609
MMPLL,22,38.723000,54.708891
MMPLL,23,38.688908,54.734154
MMPLL,24,38.627472,54.718555
MMPLL,25,38.605860,54.718644
MMPLL,26,38.577857,54.742280
MMPLL,27,38.537230,54.760603
MMPLL,28,38.558172,54.770591
MMPLL,29,38.557893,54.782432
MM1B,13.975187
MOP,Map Open Position,0,0
IWH,Map Image Width/Height,2505,3776
