OziExplorer Map Data File Version 2.2
Ð_139_noa_2.jpg
Ð_139_NOA_2.ozf2
1 ,Map Code,
WGS 84,WGS 84, 0.0000, 0.0000,WGS 84
Reserved 1
Reserved 2
Magnetic Variation,,,E
Map Projection,Latitude/Longitude,PolyCal,No,AutoCalOnly,No,BSBUseWPX,No
Point01,xy, 337, 376,in, deg, 54, 45,N, 41,19.8333333,E, grid, , , ,N
Point02,xy, 1851, 350,in, deg, 54, 45,N, 41,39.8333333,E, grid, , , ,N
Point03,xy, 1166, 3622,in, deg, 54, 20,N, 41,29.8333333,E, grid, , , ,N
Point04,xy, 406, 3627,in, deg, 54, 20,N, 41,19.8333333,E, grid, , , ,N
Point05,xy, , ,in, deg, , ,N, , ,E, grid, , , ,N
Point06,xy, , ,in, deg, , ,N, , ,E, grid, , , ,N
Point07,xy, , ,in, deg, , ,N, , ,E, grid, , , ,N
Point08,xy, , ,in, deg, , ,N, , ,E, grid, , , ,N
Point09,xy, , ,in, deg, , ,N, , ,E, grid, , , ,N
Point10,xy, , ,in, deg, , ,, , ,, grid, , , ,
Point11,xy, , ,in, deg, , ,, , ,, grid, , , ,
Point12,xy, , ,in, deg, , ,, , ,, grid, , , ,
Point13,xy, , ,in, deg, , ,, , ,, grid, , , ,
Point14,xy, , ,in, deg, , ,, , ,, grid, , , ,
Point15,xy, , ,in, deg, , ,, , ,, grid, , , ,
Point16,xy, , ,in, deg, , ,, , ,, grid, , , ,
Point17,xy, , ,in, deg, , ,, , ,, grid, , , ,
Point18,xy, , ,in, deg, , ,, , ,, grid, , , ,
Point19,xy, , ,in, deg, , ,, , ,, grid, , , ,
Point20,xy, , ,in, deg, , ,, , ,, grid, , , ,
Point21,xy, , ,in, deg, , ,, , ,, grid, , , ,
Point22,xy, , ,in, deg, , ,, , ,, grid, , , ,
Point23,xy, , ,in, deg, , ,, , ,, grid, , , ,
Point24,xy, , ,in, deg, , ,, , ,, grid, , , ,
Point25,xy, , ,in, deg, , ,, , ,, grid, , , ,
Point26,xy, , ,in, deg, , ,, , ,, grid, , , ,
Point27,xy, , ,in, deg, , ,, , ,, grid, , , ,
Point28,xy, , ,in, deg, , ,, , ,, grid, , , ,
Point29,xy, , ,in, deg, , ,, , ,, grid, , , ,
Point30,xy, , ,in, deg, , ,, , ,, grid, , , ,
Projection Setup, 0.000000000, 39.000000000, 1.000000000, 500000.00, 0.00,,,,,
Map Feature = MF ; Map Comment = MC These follow if they exist
Track File = TF These follow if they exist
Moving Map Parameters = MM? These follow if they exist
MM0,Yes
MMPNUM,21
MMPXY,1,116,94
MMPXY,2,1401,74
MMPXY,3,1462,309
MMPXY,4,1360,811
MMPXY,5,1208,971
MMPXY,6,1233,1239
MMPXY,7,1107,1491
MMPXY,8,942,1655
MMPXY,9,938,1768
MMPXY,10,1081,1852
MMPXY,11,1137,2052
MMPXY,12,1099,2160
MMPXY,13,1176,2433
MMPXY,14,1055,2771
MMPXY,15,894,2696
MMPXY,16,915,2879
MMPXY,17,980,2919
MMPXY,18,901,3236
MMPXY,19,1109,3410
MMPXY,20,1040,3668
MMPXY,21,167,3674
MMPLL,1,41.283426,54.786297
MMPLL,2,41.566120,54.786382
MMPLL,3,41.578411,54.756200
MMPLL,4,41.553579,54.692173
MMPLL,5,41.519386,54.671996
MMPLL,6,41.523602,54.637661
MMPLL,7,41.494687,54.605664
MMPLL,8,41.457615,54.585001
MMPLL,9,41.456195,54.570552
MMPLL,10,41.487242,54.559530
MMPLL,11,41.498601,54.533835
MMPLL,12,41.489728,54.520091
MMPLL,13,41.505356,54.485017
MMPLL,14,41.477129,54.442008
MMPLL,15,41.442081,54.451913
MMPLL,16,41.445824,54.428460
MMPLL,17,41.459928,54.423218
MMPLL,18,41.441038,54.382815
MMPLL,19,41.485949,54.360154
MMPLL,20,41.469541,54.327279
MMPLL,21,41.277521,54.328192
MM1B,14.225999
MOP,Map Open Position,0,0
IWH,Map Image Width/Height,2203,3750
