OziExplorer Map Data File Version 2.2
Ð_138_nob_1.jpg
d:\maps\pics\OldMaps\1862\Riasan\Ð_138_NOB_1.ozf2
1 ,Map Code,
WGS 84,, 0.0000, 0.0000,WGS 84
Reserved 1
Reserved 2
Magnetic Variation,,,E
Map Projection,Latitude/Longitude,PolyCal,No,AutoCalOnly,No,BSBUseWPX,No
Point01,xy, 567, 245,in, deg, 55,14.5386433,N, 40,13.56106,E, grid, , , ,N
Point02,xy, 6964, 2014,in, deg, 55,4.06000333,N, 41,17.6230567,E, grid, , , ,N
Point03,xy, 6813, 4491,in, deg, 54,49.8317617,N, 41,15.5569083,E, grid, , , ,N
Point04,xy, 919, 4558,in, deg, 54,49.5055917,N, 40,16.4794083,E, grid, , , ,N
Point05,xy, , ,in, deg, , ,N, , ,E, grid, , , ,N
Point06,xy, , ,in, deg, , ,N, , ,E, grid, , , ,N
Point07,xy, , ,in, deg, , ,N, , ,E, grid, , , ,N
Point08,xy, , ,in, deg, , ,N, , ,E, grid, , , ,N
Point09,xy, , ,in, deg, , ,N, , ,E, grid, , , ,N
Point10,xy, , ,in, deg, , ,N, , ,W, grid, , , ,N
Point11,xy, , ,in, deg, , ,N, , ,W, grid, , , ,N
Point12,xy, , ,in, deg, , ,N, , ,W, grid, , , ,N
Point13,xy, , ,in, deg, , ,N, , ,W, grid, , , ,N
Point14,xy, , ,in, deg, , ,N, , ,W, grid, , , ,N
Point15,xy, , ,in, deg, , ,N, , ,W, grid, , , ,N
Point16,xy, , ,in, deg, , ,N, , ,W, grid, , , ,N
Point17,xy, , ,in, deg, , ,N, , ,W, grid, , , ,N
Point18,xy, , ,in, deg, , ,N, , ,W, grid, , , ,N
Point19,xy, , ,in, deg, , ,N, , ,W, grid, , , ,N
Point20,xy, , ,in, deg, , ,N, , ,W, grid, , , ,N
Point21,xy, , ,in, deg, , ,N, , ,W, grid, , , ,N
Point22,xy, , ,in, deg, , ,N, , ,W, grid, , , ,N
Point23,xy, , ,in, deg, , ,N, , ,W, grid, , , ,N
Point24,xy, , ,in, deg, , ,N, , ,W, grid, , , ,N
Point25,xy, , ,in, deg, , ,N, , ,W, grid, , , ,N
Point26,xy, , ,in, deg, , ,N, , ,W, grid, , , ,N
Point27,xy, , ,in, deg, , ,N, , ,W, grid, , , ,N
Point28,xy, , ,in, deg, , ,N, , ,W, grid, , , ,N
Point29,xy, , ,in, deg, , ,N, , ,W, grid, , , ,N
Point30,xy, , ,in, deg, , ,N, , ,W, grid, , , ,N
Projection Setup, 0.000000000, 39.000000000, 1.000000000, 500000.00, 0.00,,,,,
Map Feature = MF ; Map Comment = MC These follow if they exist
Track File = TF These follow if they exist
Moving Map Parameters = MM? These follow if they exist
MM0,Yes
MMPNUM,23
MMPXY,1,245,152
MMPXY,2,5029,113
MMPXY,3,5093,245
MMPXY,4,5333,441
MMPXY,5,5446,739
MMPXY,6,5505,762
MMPXY,7,5574,1038
MMPXY,8,5557,1330
MMPXY,9,5778,1338
MMPXY,10,5838,1494
MMPXY,11,5856,1920
MMPXY,12,5969,2048
MMPXY,13,6307,2037
MMPXY,14,6197,1976
MMPXY,15,6231,1827
MMPXY,16,6476,1829
MMPXY,17,6319,1754
MMPXY,18,6393,1509
MMPXY,19,6613,1403
MMPXY,20,6791,1635
MMPXY,21,7008,1487
MMPXY,22,7017,4896
MMPXY,23,268,4948
MMPLL,1, 40.173051, 55.250936
MMPLL,2, 40.973834, 55.252702
MMPLL,3, 40.984187, 55.239942
MMPLL,4, 41.023823, 55.220934
MMPLL,5, 41.041928, 55.192140
MMPLL,6, 41.051740, 55.189897
MMPLL,7, 41.062540, 55.163243
MMPLL,8, 41.058903, 55.135083
MMPLL,9, 41.095869, 55.134219
MMPLL,10, 41.105488, 55.119145
MMPLL,11, 41.107345, 55.078043
MMPLL,12, 41.125911, 55.065648
MMPLL,13, 41.182510, 55.066568
MMPLL,14, 41.164265, 55.072499
MMPLL,15, 41.170360, 55.086858
MMPLL,16, 41.211359, 55.086563
MMPLL,17, 41.185286, 55.093863
MMPLL,18, 41.198335, 55.117466
MMPLL,19, 41.235443, 55.127600
MMPLL,20, 41.264605, 55.105145
MMPLL,21, 41.301324, 55.119332
MMPLL,22, 41.293587, 54.790476
MMPLL,23, 40.163896, 54.788277
MM1B,10.711118
MOP,Map Open Position,0,0
IWH,Map Image Width/Height,7244,5146
