OziExplorer Map Data File Version 2.2
Ð_137_noc_1.jpg
d:\maps\pics\OldMaps\1862\Riasan\Ð_137_NOC_1.ozf2
1 ,Map Code,
WGS 84,, 0.0000, 0.0000,WGS 84
Reserved 1
Reserved 2
Magnetic Variation,,,E
Map Projection,Latitude/Longitude,PolyCal,No,AutoCalOnly,No,BSBUseWPX,No
Point01,xy, 345, 943,in, deg, 55,28.04875,N, 40,15.8311133,E, grid, , , ,N
Point02,xy, 1084, 297,in, deg, 55,34.429665,N, 40,29.70194,E, grid, , , ,N
Point03,xy, 2113, 1952,in, deg, 55,17.1872767,N, 40,47.84676,E, grid, , , ,N
Point04,xy, 311, 2057,in, deg, 55,16.3154367,N, 40,14.856005,E, grid, , , ,N
Point05,xy, , ,ex, deg, , ,N, , ,E, grid, , , ,N
Point06,xy, , ,in, deg, , ,N, , ,E, grid, , , ,N
Point07,xy, , ,in, deg, , ,N, , ,E, grid, , , ,N
Point08,xy, , ,in, deg, , ,N, , ,E, grid, , , ,N
Point09,xy, , ,in, deg, , ,N, , ,E, grid, , , ,N
Point10,xy, , ,in, deg, , ,N, , ,W, grid, , , ,N
Point11,xy, , ,in, deg, , ,N, , ,W, grid, , , ,N
Point12,xy, , ,in, deg, , ,N, , ,W, grid, , , ,N
Point13,xy, , ,in, deg, , ,N, , ,W, grid, , , ,N
Point14,xy, , ,in, deg, , ,N, , ,W, grid, , , ,N
Point15,xy, , ,in, deg, , ,N, , ,W, grid, , , ,N
Point16,xy, , ,in, deg, , ,N, , ,W, grid, , , ,N
Point17,xy, , ,in, deg, , ,N, , ,W, grid, , , ,N
Point18,xy, , ,in, deg, , ,N, , ,W, grid, , , ,N
Point19,xy, , ,in, deg, , ,N, , ,W, grid, , , ,N
Point20,xy, , ,in, deg, , ,N, , ,W, grid, , , ,N
Point21,xy, , ,in, deg, , ,N, , ,W, grid, , , ,N
Point22,xy, , ,in, deg, , ,N, , ,W, grid, , , ,N
Point23,xy, , ,in, deg, , ,N, , ,W, grid, , , ,N
Point24,xy, , ,in, deg, , ,N, , ,W, grid, , , ,N
Point25,xy, , ,in, deg, , ,N, , ,W, grid, , , ,N
Point26,xy, , ,in, deg, , ,N, , ,W, grid, , , ,N
Point27,xy, , ,in, deg, , ,N, , ,W, grid, , , ,N
Point28,xy, , ,in, deg, , ,N, , ,W, grid, , , ,N
Point29,xy, , ,in, deg, , ,N, , ,W, grid, , , ,N
Point30,xy, , ,in, deg, , ,N, , ,W, grid, , , ,N
Projection Setup, 0.000000000, 39.000000000, 1.000000000, 500000.00, 0.00,,,,,
Map Feature = MF ; Map Comment = MC These follow if they exist
Track File = TF These follow if they exist
Moving Map Parameters = MM? These follow if they exist
MM0,Yes
MMPNUM,30
MMPXY,1,59,680
MMPXY,2,168,707
MMPXY,3,422,774
MMPXY,4,410,859
MMPXY,5,462,911
MMPXY,6,507,702
MMPXY,7,684,659
MMPXY,8,745,195
MMPXY,9,793,88
MMPXY,10,1239,259
MMPXY,11,1374,428
MMPXY,12,1485,425
MMPXY,13,1500,490
MMPXY,14,1651,470
MMPXY,15,1761,721
MMPXY,16,1852,785
MMPXY,17,1920,960
MMPXY,18,1827,1183
MMPXY,19,1961,1249
MMPXY,20,2084,1232
MMPXY,21,2122,1403
MMPXY,22,2062,1476
MMPXY,23,2460,1480
MMPXY,24,2505,1620
MMPXY,25,2493,1726
MMPXY,26,2574,1763
MMPXY,27,2695,2026
MMPXY,28,2772,2048
MMPXY,29,2730,2179
MMPXY,30,64,2175
MMPLL,1, 40.179158, 55.511881
MMPLL,2, 40.212245, 55.506893
MMPLL,3, 40.289321, 55.494565
MMPLL,4, 40.285105, 55.479905
MMPLL,5, 40.300634, 55.470762
MMPLL,6, 40.315731, 55.506763
MMPLL,7, 40.370027, 55.513677
MMPLL,8, 40.391671, 55.593716
MMPLL,9, 40.407018, 55.612074
MMPLL,10, 40.542008, 55.581201
MMPLL,11, 40.582104, 55.551588
MMPLL,12, 40.615997, 55.551781
MMPLL,13, 40.620151, 55.540499
MMPLL,14, 40.666362, 55.543514
MMPLL,15, 40.698293, 55.499797
MMPLL,16, 40.725646, 55.488465
MMPLL,17, 40.745255, 55.458011
MMPLL,18, 40.715419, 55.419731
MMPLL,19, 40.755881, 55.407928
MMPLL,20, 40.793528, 55.410506
MMPLL,21, 40.804008, 55.380831
MMPLL,22, 40.785222, 55.368387
MMPLL,23, 40.906654, 55.366527
MMPLL,24, 40.919473, 55.342191
MMPLL,25, 40.915119, 55.323901
MMPLL,26, 40.939596, 55.317266
MMPLL,27, 40.974806, 55.271443
MMPLL,28, 40.998160, 55.267413
MMPLL,29, 40.984488, 55.244889
MMPLL,30, 40.170925, 55.253406
MM1B,19.331642
MOP,Map Open Position,0,0
IWH,Map Image Width/Height,3334,2246
