OziExplorer Map Data File Version 2.2
Ð_132_nwb_2.jpg
Ð_132_NWB_2.ozf2
1 ,Map Code,
WGS 84,, 0.0000, 0.0000,WGS 84
Reserved 1
Reserved 2
Magnetic Variation,,,E
Map Projection,Latitude/Longitude,PolyCal,No,AutoCalOnly,No,BSBUseWPX,No
Point01,xy, 1578, 680,in, deg, 55,10.00002,N, 38,49.26666,E, grid, , , ,N
Point02,xy, 2317, 662,in, deg, 55,10.00002,N, 38,59.26668,E, grid, , , ,N
Point03,xy, 2288, 3282,in, deg, 54,49.99998,N, 38,59.26668,E, grid, , , ,N
Point04,xy, 47, 3259,in, deg, 54,49.99998,N, 38,29.26668,E, grid, , , ,N
Point05,xy, , ,in, deg, , ,N, , ,E, grid, , , ,N
Point06,xy, , ,in, deg, , ,N, , ,E, grid, , , ,N
Point07,xy, , ,in, deg, , ,N, , ,E, grid, , , ,N
Point08,xy, , ,in, deg, , ,N, , ,E, grid, , , ,N
Point09,xy, , ,in, deg, , ,N, , ,E, grid, , , ,N
Point10,xy, , ,in, deg, , ,N, , ,W, grid, , , ,N
Point11,xy, , ,in, deg, , ,N, , ,W, grid, , , ,N
Point12,xy, , ,in, deg, , ,N, , ,W, grid, , , ,N
Point13,xy, , ,in, deg, , ,N, , ,W, grid, , , ,N
Point14,xy, , ,in, deg, , ,N, , ,W, grid, , , ,N
Point15,xy, , ,in, deg, , ,N, , ,W, grid, , , ,N
Point16,xy, , ,in, deg, , ,N, , ,W, grid, , , ,N
Point17,xy, , ,in, deg, , ,N, , ,W, grid, , , ,N
Point18,xy, , ,in, deg, , ,N, , ,W, grid, , , ,N
Point19,xy, , ,in, deg, , ,N, , ,W, grid, , , ,N
Point20,xy, , ,in, deg, , ,N, , ,W, grid, , , ,N
Point21,xy, , ,in, deg, , ,N, , ,W, grid, , , ,N
Point22,xy, , ,in, deg, , ,N, , ,W, grid, , , ,N
Point23,xy, , ,in, deg, , ,N, , ,W, grid, , , ,N
Point24,xy, , ,in, deg, , ,N, , ,W, grid, , , ,N
Point25,xy, , ,in, deg, , ,N, , ,W, grid, , , ,N
Point26,xy, , ,in, deg, , ,N, , ,W, grid, , , ,N
Point27,xy, , ,in, deg, , ,N, , ,W, grid, , , ,N
Point28,xy, , ,in, deg, , ,N, , ,W, grid, , , ,N
Point29,xy, , ,in, deg, , ,N, , ,W, grid, , , ,N
Point30,xy, , ,in, deg, , ,N, , ,W, grid, , , ,N
Projection Setup, 0.000000000, 39.000000000, 1.000000000, 500000.00, 0.00,,,,,
Map Feature = MF ; Map Comment = MC These follow if they exist
Track File = TF These follow if they exist
Moving Map Parameters = MM? These follow if they exist
MM0,No
MMPNUM,28
MMPXY,1,351,3678
MMPXY,2,182,3618
MMPXY,3,150,3462
MMPXY,4,247,3311
MMPXY,5,615,3146
MMPXY,6,716,2672
MMPXY,7,1138,2623
MMPXY,8,1281,2272
MMPXY,9,1214,2012
MMPXY,10,1241,1892
MMPXY,11,1206,1693
MMPXY,12,1293,1531
MMPXY,13,1560,1405
MMPXY,14,1871,1324
MMPXY,15,2116,1349
MMPXY,16,2326,1280
MMPXY,17,2233,1269
MMPXY,18,2208,1091
MMPXY,19,2143,1055
MMPXY,20,2267,725
MMPXY,21,2408,718
MMPXY,22,2403,568
MMPXY,23,2225,629
MMPXY,24,1969,380
MMPXY,25,1741,210
MMPXY,26,1805,48
MMPXY,27,2423,38
MMPXY,28,2519,3646
MMPLL,1,38.556607,54.780472
MMPLL,2,38.518689,54.788002
MMPLL,3,38.511091,54.807937
MMPLL,4,38.532316,54.827345
MMPLL,5,38.614025,54.848782
MMPLL,6,38.635208,54.909527
MMPLL,7,38.729313,54.916166
MMPLL,8,38.760232,54.961208
MMPLL,9,38.744516,54.994421
MMPLL,10,38.750198,55.009801
MMPLL,11,38.741804,55.035236
MMPLL,12,38.760765,55.056042
MMPLL,13,38.820030,55.072400
MMPLL,14,38.889252,55.083037
MMPLL,15,38.944041,55.080052
MMPLL,16,38.990742,55.089066
MMPLL,17,38.969940,55.090392
MMPLL,18,38.963840,55.113148
MMPLL,19,38.949219,55.117698
MMPLL,20,38.975956,55.160036
MMPLL,21,39.007426,55.161055
MMPLL,22,39.005875,55.180246
MMPLL,23,38.966298,55.172284
MMPLL,24,38.908403,55.203924
MMPLL,25,38.856990,55.225479
MMPLL,26,38.870814,55.246266
MMPLL,27,39.008805,55.248086
MMPLL,28,39.040702,54.786463
MM1B,14.282627
MOP,Map Open Position,0,0
IWH,Map Image Width/Height,2620,3764
