OziExplorer Map Data File Version 2.2
R5l3.gif
R5L3.ozf2
1 ,Map Code,
WGS 84,WGS 84, 0.0000, 0.0000,WGS 84
Reserved 1
Reserved 2
Magnetic Variation,,,E
Map Projection,Latitude/Longitude,PolyCal,No,AutoCalOnly,No,BSBUseWPX,No
Point01,xy, 191, 273,in, deg, 55, 30,N, 36,4.26666667,E, grid, , , ,N
Point02,xy, 3138, 277,in, deg, 55, 30,N, 36,34.2666667,E, grid, , , ,N
Point03,xy, 3106, 3701,in, deg, 55, 10,N, 36,34.2666667,E, grid, , , ,N
Point04,xy, 140, 3726,in, deg, 55, 10,N, 36,4.26666667,E, grid, , , ,N
Point05,xy, , ,in, deg, , ,N, , ,E, grid, , , ,N
Point06,xy, , ,in, deg, , ,N, , ,E, grid, , , ,N
Point07,xy, , ,in, deg, , ,N, , ,E, grid, , , ,N
Point08,xy, , ,in, deg, , ,N, , ,E, grid, , , ,N
Point09,xy, , ,in, deg, , ,N, , ,E, grid, , , ,N
Point10,xy, , ,in, deg, , ,, , ,, grid, , , ,
Point11,xy, , ,in, deg, , ,, , ,, grid, , , ,
Point12,xy, , ,in, deg, , ,, , ,, grid, , , ,
Point13,xy, , ,in, deg, , ,, , ,, grid, , , ,
Point14,xy, , ,in, deg, , ,, , ,, grid, , , ,
Point15,xy, , ,in, deg, , ,, , ,, grid, , , ,
Point16,xy, , ,in, deg, , ,, , ,, grid, , , ,
Point17,xy, , ,in, deg, , ,, , ,, grid, , , ,
Point18,xy, , ,in, deg, , ,, , ,, grid, , , ,
Point19,xy, , ,in, deg, , ,, , ,, grid, , , ,
Point20,xy, , ,in, deg, , ,, , ,, grid, , , ,
Point21,xy, , ,in, deg, , ,, , ,, grid, , , ,
Point22,xy, , ,in, deg, , ,, , ,, grid, , , ,
Point23,xy, , ,in, deg, , ,, , ,, grid, , , ,
Point24,xy, , ,in, deg, , ,, , ,, grid, , , ,
Point25,xy, , ,in, deg, , ,, , ,, grid, , , ,
Point26,xy, , ,in, deg, , ,, , ,, grid, , , ,
Point27,xy, , ,in, deg, , ,, , ,, grid, , , ,
Point28,xy, , ,in, deg, , ,, , ,, grid, , , ,
Point29,xy, , ,in, deg, , ,, , ,, grid, , , ,
Point30,xy, , ,in, deg, , ,, , ,, grid, , , ,
Projection Setup,,,,,,,,,,
Map Feature = MF ; Map Comment = MC These follow if they exist
Track File = TF These follow if they exist
Moving Map Parameters = MM? These follow if they exist
MM0,Yes
MMPNUM,29
MMPXY,1,192,274
MMPXY,2,3138,276
MMPXY,3,3120,2036
MMPXY,4,2965,2218
MMPXY,5,2902,2159
MMPXY,6,2903,2285
MMPXY,7,2756,2454
MMPXY,8,2679,2362
MMPXY,9,2565,2508
MMPXY,10,2424,2485
MMPXY,11,2371,2300
MMPXY,12,2267,2281
MMPXY,13,2026,2535
MMPXY,14,1867,2418
MMPXY,15,1800,2288
MMPXY,16,1794,2473
MMPXY,17,1982,2649
MMPXY,18,1925,2930
MMPXY,19,1745,2877
MMPXY,20,1662,3239
MMPXY,21,1536,3336
MMPXY,22,1293,3351
MMPXY,23,1220,3520
MMPXY,24,1039,3585
MMPXY,25,816,3499
MMPXY,26,590,3586
MMPXY,27,363,3553
MMPXY,28,279,3326
MMPXY,29,146,3299
MMPLL,1,36.072071,55.500604
MMPLL,2,36.570321,55.499396
MMPLL,3,36.570869,55.328778
MMPLL,4,36.545026,55.311187
MMPLL,5,36.534250,55.316928
MMPLL,6,36.534677,55.304713
MMPLL,7,36.510160,55.288380
MMPLL,8,36.496950,55.297325
MMPLL,9,36.477967,55.283210
MMPLL,10,36.454074,55.285489
MMPLL,11,36.444732,55.303442
MMPLL,12,36.427104,55.305320
MMPLL,13,36.386863,55.280778
MMPLL,14,36.359733,55.292176
MMPLL,15,36.348137,55.304802
MMPLL,16,36.347500,55.286869
MMPLL,17,36.379655,55.269742
MMPLL,18,36.370588,55.242520
MMPLL,19,36.340037,55.247720
MMPLL,20,36.326738,55.212654
MMPLL,21,36.305627,55.203294
MMPLL,22,36.264560,55.201923
MMPLL,23,36.252558,55.185564
MMPLL,24,36.222079,55.179325
MMPLL,25,36.184188,55.187739
MMPLL,26,36.146144,55.179383
MMPLL,27,36.107685,55.182660
MMPLL,28,36.093015,55.204696
MMPLL,29,36.070466,55.207359
MM1B,10.722813
MOP,Map Open Position,0,0
IWH,Map Image Width/Height,3311,3948
