OziExplorer Map Data File Version 2.2
R3l8.gif
R3L8.ozf2
1 ,Map Code,
WGS 84,WGS 84, 0.0000, 0.0000,WGS 84
Reserved 1
Reserved 2
Magnetic Variation,,,E
Map Projection,Latitude/Longitude,PolyCal,No,AutoCalOnly,No,BSBUseWPX,No
Point01,xy, 246, 174,in, deg, 56, 10,N, 38,34.2666667,E, grid, , , ,N
Point02,xy, 3145, 177,in, deg, 56, 10,N, 39,4.26666667,E, grid, , , ,N
Point03,xy, 3124, 3648,in, deg, 55, 50,N, 39,4.26666667,E, grid, , , ,N
Point04,xy, 205, 3648,in, deg, 55, 50,N, 38,34.2666667,E, grid, , , ,N
Point05,xy, , ,in, deg, , ,N, , ,E, grid, , , ,N
Point06,xy, , ,in, deg, , ,N, , ,E, grid, , , ,N
Point07,xy, , ,in, deg, , ,N, , ,E, grid, , , ,N
Point08,xy, , ,in, deg, , ,N, , ,E, grid, , , ,N
Point09,xy, , ,in, deg, , ,N, , ,E, grid, , , ,N
Point10,xy, , ,in, deg, , ,N, , ,W, grid, , , ,N
Point11,xy, , ,in, deg, , ,N, , ,W, grid, , , ,N
Point12,xy, , ,in, deg, , ,N, , ,W, grid, , , ,N
Point13,xy, , ,in, deg, , ,N, , ,W, grid, , , ,N
Point14,xy, , ,in, deg, , ,N, , ,W, grid, , , ,N
Point15,xy, , ,in, deg, , ,N, , ,W, grid, , , ,N
Point16,xy, , ,in, deg, , ,N, , ,W, grid, , , ,N
Point17,xy, , ,in, deg, , ,N, , ,W, grid, , , ,N
Point18,xy, , ,in, deg, , ,N, , ,W, grid, , , ,N
Point19,xy, , ,in, deg, , ,N, , ,W, grid, , , ,N
Point20,xy, , ,in, deg, , ,N, , ,W, grid, , , ,N
Point21,xy, , ,in, deg, , ,N, , ,W, grid, , , ,N
Point22,xy, , ,in, deg, , ,N, , ,W, grid, , , ,N
Point23,xy, , ,in, deg, , ,N, , ,W, grid, , , ,N
Point24,xy, , ,in, deg, , ,N, , ,W, grid, , , ,N
Point25,xy, , ,in, deg, , ,N, , ,W, grid, , , ,N
Point26,xy, , ,in, deg, , ,N, , ,W, grid, , , ,N
Point27,xy, , ,in, deg, , ,N, , ,W, grid, , , ,N
Point28,xy, , ,in, deg, , ,N, , ,W, grid, , , ,N
Point29,xy, , ,in, deg, , ,N, , ,W, grid, , , ,N
Point30,xy, , ,in, deg, , ,N, , ,W, grid, , , ,N
Projection Setup,,,,,,,,,,
Map Feature = MF ; Map Comment = MC These follow if they exist
Track File = TF These follow if they exist
Moving Map Parameters = MM? These follow if they exist
MM0,No
MMPNUM,13
MMPXY,1,206,3647
MMPXY,2,222,2174
MMPXY,3,345,2071
MMPXY,4,430,2146
MMPXY,5,910,2038
MMPXY,6,1132,2139
MMPXY,7,1552,2529
MMPXY,8,1723,2698
MMPXY,9,2057,3098
MMPXY,10,2331,3308
MMPXY,11,2521,3355
MMPXY,12,2676,3579
MMPXY,13,2642,3642
MMPLL,1,38.570423,55.833357
MMPLL,2,38.570913,55.974754
MMPLL,3,38.591896,55.984647
MMPLL,4,38.606621,55.977452
MMPLL,5,38.688958,55.987843
MMPLL,6,38.727270,55.978159
MMPLL,7,38.800058,55.940743
MMPLL,8,38.829708,55.924529
MMPLL,9,38.887730,55.886148
MMPLL,10,38.935147,55.866004
MMPLL,11,38.967876,55.861501
MMPLL,12,38.994861,55.840007
MMPLL,13,38.989114,55.833958
MM1B,10.721084
MOP,Map Open Position,0,0
IWH,Map Image Width/Height,3322,3924
