OziExplorer Map Data File Version 2.2
R2l6.gif
R2L6.ozf2
1 ,Map Code,
WGS 84,WGS 84, 0.0000, 0.0000,WGS 84
Reserved 1
Reserved 2
Magnetic Variation,,,E
Map Projection,Latitude/Longitude,PolyCal,No,AutoCalOnly,No,BSBUseWPX,No
Point01,xy, 262, 109,in, deg, 56, 30,N, 37,34.2666667,E, grid, , , ,N
Point02,xy, 3123, 105,in, deg, 56, 30,N, 38,4.26666667,E, grid, , , ,N
Point03,xy, 3136, 4313,in, deg, 56, 10,N, 38,4.26666667,E, grid, , , ,N
Point04,xy, 235, 4340,in, deg, 56, 10,N, 37,34.2666667,E, grid, , , ,N
Point05,xy, , ,in, deg, , ,N, , ,E, grid, , , ,N
Point06,xy, , ,in, deg, , ,N, , ,E, grid, , , ,N
Point07,xy, , ,in, deg, , ,N, , ,E, grid, , , ,N
Point08,xy, , ,in, deg, , ,N, , ,E, grid, , , ,N
Point09,xy, , ,in, deg, , ,N, , ,E, grid, , , ,N
Point10,xy, , ,in, deg, , ,, , ,, grid, , , ,
Point11,xy, , ,in, deg, , ,, , ,, grid, , , ,
Point12,xy, , ,in, deg, , ,, , ,, grid, , , ,
Point13,xy, , ,in, deg, , ,, , ,, grid, , , ,
Point14,xy, , ,in, deg, , ,, , ,, grid, , , ,
Point15,xy, , ,in, deg, , ,, , ,, grid, , , ,
Point16,xy, , ,in, deg, , ,, , ,, grid, , , ,
Point17,xy, , ,in, deg, , ,, , ,, grid, , , ,
Point18,xy, , ,in, deg, , ,, , ,, grid, , , ,
Point19,xy, , ,in, deg, , ,, , ,, grid, , , ,
Point20,xy, , ,in, deg, , ,, , ,, grid, , , ,
Point21,xy, , ,in, deg, , ,, , ,, grid, , , ,
Point22,xy, , ,in, deg, , ,, , ,, grid, , , ,
Point23,xy, , ,in, deg, , ,, , ,, grid, , , ,
Point24,xy, , ,in, deg, , ,, , ,, grid, , , ,
Point25,xy, , ,in, deg, , ,, , ,, grid, , , ,
Point26,xy, , ,in, deg, , ,, , ,, grid, , , ,
Point27,xy, , ,in, deg, , ,, , ,, grid, , , ,
Point28,xy, , ,in, deg, , ,, , ,, grid, , , ,
Point29,xy, , ,in, deg, , ,, , ,, grid, , , ,
Point30,xy, , ,in, deg, , ,, , ,, grid, , , ,
Projection Setup,,,,,,,,,,
Map Feature = MF ; Map Comment = MC These follow if they exist
Track File = TF These follow if they exist
Moving Map Parameters = MM? These follow if they exist
MM0,Yes
MMPNUM,44
MMPXY,1,234,4339
MMPXY,2,261,440
MMPXY,3,295,448
MMPXY,4,385,594
MMPXY,5,508,640
MMPXY,6,601,738
MMPXY,7,626,829
MMPXY,8,700,834
MMPXY,9,711,762
MMPXY,10,813,688
MMPXY,11,1012,353
MMPXY,12,1084,373
MMPXY,13,1206,293
MMPXY,14,1234,222
MMPXY,15,1328,163
MMPXY,16,1473,323
MMPXY,17,1454,413
MMPXY,18,1531,486
MMPXY,19,1604,691
MMPXY,20,1582,874
MMPXY,21,1544,896
MMPXY,22,1633,1040
MMPXY,23,1604,1094
MMPXY,24,1703,1118
MMPXY,25,1772,1147
MMPXY,26,1784,1218
MMPXY,27,1885,1214
MMPXY,28,1880,1323
MMPXY,29,1958,1429
MMPXY,30,1870,1583
MMPXY,31,1787,1583
MMPXY,32,1763,1734
MMPXY,33,1695,1861
MMPXY,34,1854,2137
MMPXY,35,1981,2188
MMPXY,36,2089,2116
MMPXY,37,2135,2161
MMPXY,38,2277,2068
MMPXY,39,2584,2172
MMPXY,40,2680,2086
MMPXY,41,2780,2243
MMPXY,42,2975,2227
MMPXY,43,3123,2353
MMPXY,44,3136,4311
MMPLL,1,37.569203,56.166296
MMPLL,2,37.572767,56.474302
MMPLL,3,37.578670,56.473655
MMPLL,4,37.594332,56.462083
MMPLL,5,37.615692,56.458397
MMPLL,6,37.631860,56.450616
MMPLL,7,37.636225,56.443416
MMPLL,8,37.649070,56.442990
MMPLL,9,37.650958,56.448673
MMPLL,10,37.668639,56.454475
MMPLL,11,37.703080,56.480855
MMPLL,12,37.715581,56.479245
MMPLL,13,37.736731,56.485513
MMPLL,14,37.741570,56.491110
MMPLL,15,37.757867,56.495731
MMPLL,16,37.783079,56.483030
MMPLL,17,37.779807,56.475928
MMPLL,18,37.793192,56.470128
MMPLL,19,37.805920,56.453902
MMPLL,20,37.802154,56.439455
MMPLL,21,37.795566,56.437733
MMPLL,22,37.811053,56.426319
MMPLL,23,37.806036,56.422066
MMPLL,24,37.823224,56.420128
MMPLL,25,37.835208,56.417807
MMPLL,26,37.837311,56.412193
MMPLL,27,37.854839,56.412466
MMPLL,28,37.854002,56.403858
MMPLL,29,37.867570,56.395450
MMPLL,30,37.852342,56.383322
MMPLL,31,37.837937,56.383357
MMPLL,32,37.833815,56.371439
MMPLL,33,37.822050,56.361435
MMPLL,34,37.849724,56.339563
MMPLL,35,37.871780,56.335480
MMPLL,36,37.890503,56.341122
MMPLL,37,37.898499,56.337548
MMPLL,38,37.923117,56.344835
MMPLL,39,37.976428,56.336488
MMPLL,40,37.993064,56.343241
MMPLL,41,38.010464,56.330796
MMPLL,42,38.044302,56.331977
MMPLL,43,38.070024,56.321960
MMPLL,44,38.072844,56.167275
MM1B,10.730521
MOP,Map Open Position,0,0
IWH,Map Image Width/Height,3362,4563
