OziExplorer Map Data File Version 2.2
F5a2.jpg
d:\maps\pics\OldMaps\1862\Tver\OZF2\F5A2.ozf2
1 ,Map Code,
WGS 84,, 0.0000, 0.0000,WGS 84
Reserved 1
Reserved 2
Magnetic Variation,,,E
Map Projection,Latitude/Longitude,PolyCal,No,AutoCalOnly,No,BSBUseWPX,No
Point01,xy, 188, 57,in, deg, 56,51.6991533,N, 37,9.47928167,E, grid, , , ,N
Point02,xy, 190, 1712,in, deg, 56,39.3802017,N, 37,8.74542833,E, grid, , , ,N
Point03,xy, 2194, 1583,in, deg, 56,39.5239583,N, 37,37.00032,E, grid, , , ,N
Point04,xy, 2363, 153,in, deg, 56,50.5910417,N, 37,40.4262917,E, grid, , , ,N
Point05,xy, , ,in, deg, , ,N, , ,E, grid, , , ,N
Point06,xy, , ,in, deg, , ,N, , ,E, grid, , , ,N
Point07,xy, , ,in, deg, , ,N, , ,E, grid, , , ,N
Point08,xy, , ,in, deg, , ,N, , ,E, grid, , , ,N
Point09,xy, , ,in, deg, , ,N, , ,E, grid, , , ,N
Point10,xy, , ,in, deg, , ,N, , ,W, grid, , , ,N
Point11,xy, , ,in, deg, , ,N, , ,W, grid, , , ,N
Point12,xy, , ,in, deg, , ,N, , ,W, grid, , , ,N
Point13,xy, , ,in, deg, , ,N, , ,W, grid, , , ,N
Point14,xy, , ,in, deg, , ,N, , ,W, grid, , , ,N
Point15,xy, , ,in, deg, , ,N, , ,W, grid, , , ,N
Point16,xy, , ,in, deg, , ,N, , ,W, grid, , , ,N
Point17,xy, , ,in, deg, , ,N, , ,W, grid, , , ,N
Point18,xy, , ,in, deg, , ,N, , ,W, grid, , , ,N
Point19,xy, , ,in, deg, , ,N, , ,W, grid, , , ,N
Point20,xy, , ,in, deg, , ,N, , ,W, grid, , , ,N
Point21,xy, , ,in, deg, , ,N, , ,W, grid, , , ,N
Point22,xy, , ,in, deg, , ,N, , ,W, grid, , , ,N
Point23,xy, , ,in, deg, , ,N, , ,W, grid, , , ,N
Point24,xy, , ,in, deg, , ,N, , ,W, grid, , , ,N
Point25,xy, , ,in, deg, , ,N, , ,W, grid, , , ,N
Point26,xy, , ,in, deg, , ,N, , ,W, grid, , , ,N
Point27,xy, , ,in, deg, , ,N, , ,W, grid, , , ,N
Point28,xy, , ,in, deg, , ,N, , ,W, grid, , , ,N
Point29,xy, , ,in, deg, , ,N, , ,W, grid, , , ,N
Point30,xy, , ,in, deg, , ,N, , ,W, grid, , , ,N
Projection Setup, 0.000000000, 33.000000000, 1.000000000, 500000.00, 0.00,,,,,
Map Feature = MF ; Map Comment = MC These follow if they exist
Track File = TF These follow if they exist
Moving Map Parameters = MM? These follow if they exist
MM0,Yes
MMPNUM,34
MMPXY,1,24,56
MMPXY,2,2561,56
MMPXY,3,2555,852
MMPXY,4,2261,836
MMPXY,5,2273,1030
MMPXY,6,2332,1035
MMPXY,7,2361,1123
MMPXY,8,2302,1204
MMPXY,9,2303,1373
MMPXY,10,2326,1450
MMPXY,11,2447,1506
MMPXY,12,2368,1676
MMPXY,13,2209,1632
MMPXY,14,2168,1726
MMPXY,15,2083,1764
MMPXY,16,2033,1843
MMPXY,17,1620,1843
MMPXY,18,1636,1816
MMPXY,19,1539,1765
MMPXY,20,1386,1476
MMPXY,21,1232,1342
MMPXY,22,1174,1268
MMPXY,23,1058,1330
MMPXY,24,1026,1374
MMPXY,25,791,1390
MMPXY,26,498,1272
MMPXY,27,344,1412
MMPXY,28,246,1450
MMPXY,29,250,1520
MMPXY,30,148,1613
MMPXY,31,260,1670
MMPXY,32,245,1765
MMPXY,33,111,1839
MMPXY,34,21,1838
MMPLL,1, 37.120770, 56.864446
MMPLL,2, 37.719784, 56.852406
MMPLL,3, 37.710741, 56.751773
MMPLL,4, 37.641478, 56.755191
MMPLL,5, 37.642453, 56.730601
MMPLL,6, 37.656335, 56.729689
MMPLL,7, 37.662339, 56.718423
MMPLL,8, 37.647633, 56.708460
MMPLL,9, 37.646250, 56.687083
MMPLL,10, 37.650943, 56.677237
MMPLL,11, 37.678975, 56.669581
MMPLL,12, 37.658694, 56.648458
MMPLL,13, 37.621574, 56.654776
MMPLL,14, 37.610993, 56.643084
MMPLL,15, 37.590559, 56.638682
MMPLL,16, 37.577997, 56.628929
MMPLL,17, 37.480483, 56.630889
MMPLL,18, 37.484519, 56.634227
MMPLL,19, 37.462105, 56.641137
MMPLL,20, 37.428749, 56.678410
MMPLL,21, 37.393672, 56.696086
MMPLL,22, 37.380686, 56.705720
MMPLL,23, 37.352703, 56.698430
MMPLL,24, 37.344726, 56.693017
MMPLL,25, 37.289087, 56.692109
MMPLL,26, 37.221037, 56.708422
MMPLL,27, 37.183334, 56.691449
MMPLL,28, 37.159831, 56.687108
MMPLL,29, 37.160105, 56.678237
MMPLL,30, 37.135131, 56.666961
MMPLL,31, 37.161029, 56.659221
MMPLL,32, 37.156577, 56.647278
MMPLL,33, 37.124229, 56.638556
MMPLL,34, 37.102989, 56.639110
MM1B,14.464057
MOP,Map Open Position,0,0
IWH,Map Image Width/Height,2667,1875
