OziExplorer Map Data File Version 2.2
F5a1.jpg
F5A1.ozf2
1 ,Map Code,
WGS 84,, 0.0000, 0.0000,WGS 84
Reserved 1
Reserved 2
Magnetic Variation,,,E
Map Projection,Latitude/Longitude,PolyCal,No,AutoCalOnly,No,BSBUseWPX,No
Point01,xy, 718, 399,in, deg, 56, 50,N, 36, 40,E, grid, , , ,N
Point02,xy, 745, 1681,in, deg, 56, 40,N, 36, 40,E, grid, , , ,N
Point03,xy, 2166, 1654,in, deg, 56, 40,N, 37, 0,E, grid, , , ,N
Point04,xy, 2130, 363,in, deg, 56, 50,N, 37, 0,E, grid, , , ,N
Point05,xy, , ,in, deg, , ,N, , ,E, grid, , , ,N
Point06,xy, , ,in, deg, , ,N, , ,E, grid, , , ,N
Point07,xy, , ,in, deg, , ,N, , ,E, grid, , , ,N
Point08,xy, , ,in, deg, , ,N, , ,E, grid, , , ,N
Point09,xy, , ,in, deg, , ,N, , ,E, grid, , , ,N
Point10,xy, , ,in, deg, , ,, , ,, grid, , , ,
Point11,xy, , ,in, deg, , ,, , ,, grid, , , ,
Point12,xy, , ,in, deg, , ,, , ,, grid, , , ,
Point13,xy, , ,in, deg, , ,, , ,, grid, , , ,
Point14,xy, , ,in, deg, , ,, , ,, grid, , , ,
Point15,xy, , ,in, deg, , ,, , ,, grid, , , ,
Point16,xy, , ,in, deg, , ,, , ,, grid, , , ,
Point17,xy, , ,in, deg, , ,, , ,, grid, , , ,
Point18,xy, , ,in, deg, , ,, , ,, grid, , , ,
Point19,xy, , ,in, deg, , ,, , ,, grid, , , ,
Point20,xy, , ,in, deg, , ,, , ,, grid, , , ,
Point21,xy, , ,in, deg, , ,, , ,, grid, , , ,
Point22,xy, , ,in, deg, , ,, , ,, grid, , , ,
Point23,xy, , ,in, deg, , ,, , ,, grid, , , ,
Point24,xy, , ,in, deg, , ,, , ,, grid, , , ,
Point25,xy, , ,in, deg, , ,, , ,, grid, , , ,
Point26,xy, , ,in, deg, , ,, , ,, grid, , , ,
Point27,xy, , ,in, deg, , ,, , ,, grid, , , ,
Point28,xy, , ,in, deg, , ,, , ,, grid, , , ,
Point29,xy, , ,in, deg, , ,, , ,, grid, , , ,
Point30,xy, , ,in, deg, , ,, , ,, grid, , , ,
Projection Setup, 0.000000000, 33.000000000, 1.000000000, 500000.00, 0.00,,,,,
Map Feature = MF ; Map Comment = MC These follow if they exist
Track File = TF These follow if they exist
Moving Map Parameters = MM? These follow if they exist
MM0,Yes
MMPNUM,17
MMPXY,1,102,144
MMPXY,2,2627,139
MMPXY,3,2630,1922
MMPXY,4,982,1917
MMPXY,5,990,1891
MMPXY,6,785,1854
MMPXY,7,838,1802
MMPXY,8,870,1808
MMPXY,9,934,1694
MMPXY,10,1004,1712
MMPXY,11,1068,1669
MMPXY,12,966,1640
MMPXY,13,856,1537
MMPXY,14,633,1811
MMPXY,15,566,1854
MMPXY,16,526,1916
MMPXY,17,107,1911
MMPLL,1,36.523772,56.867827
MMPLL,2,37.117665,56.861204
MMPLL,3,37.108103,56.630332
MMPLL,4,36.720532,56.635725
MMPLL,5,36.722564,56.639068
MMPLL,6,36.674562,56.644449
MMPLL,7,36.687327,56.651030
MMPLL,8,36.694818,56.650161
MMPLL,9,36.710527,56.664737
MMPLL,10,36.726887,56.662205
MMPLL,11,36.742187,56.667588
MMPLL,12,36.718364,56.671637
MMPLL,13,36.693086,56.685290
MMPLL,14,36.639060,56.650455
MMPLL,15,36.623054,56.645080
MMPLL,16,36.613290,56.637167
MMPLL,17,36.514772,56.639021
MM1B,14.366686
MOP,Map Open Position,0,0
IWH,Map Image Width/Height,2662,1959
