OziExplorer Map Data File Version 2.2
D1.jpg
D1.ozf2
1 ,Map Code,
WGS 84,, 0.0000, 0.0000,WGS 84
Reserved 1
Reserved 2
Magnetic Variation,,,E
Map Projection,Latitude/Longitude,PolyCal,No,AutoCalOnly,No,BSBUseWPX,No
Point01,xy, 1247, 999,in, deg, 57, 20,N, 32, 50,E, grid, , , ,N
Point02,xy, 1269, 359,in, deg, 57, 25,N, 32, 50,E, grid, , , ,N
Point03,xy, 570, 335,in, deg, 57, 25,N, 32, 40,E, grid, , , ,N
Point04,xy, 547, 972,in, deg, 57, 20,N, 32, 40,E, grid, , , ,N
Point05,xy, , ,in, deg, , ,N, , ,E, grid, , , ,N
Point06,xy, , ,in, deg, , ,N, , ,E, grid, , , ,N
Point07,xy, , ,in, deg, , ,N, , ,E, grid, , , ,N
Point08,xy, , ,in, deg, , ,N, , ,E, grid, , , ,N
Point09,xy, , ,in, deg, , ,N, , ,E, grid, , , ,N
Point10,xy, , ,in, deg, , ,, , ,, grid, , , ,
Point11,xy, , ,in, deg, , ,, , ,, grid, , , ,
Point12,xy, , ,in, deg, , ,, , ,, grid, , , ,
Point13,xy, , ,in, deg, , ,, , ,, grid, , , ,
Point14,xy, , ,in, deg, , ,, , ,, grid, , , ,
Point15,xy, , ,in, deg, , ,, , ,, grid, , , ,
Point16,xy, , ,in, deg, , ,, , ,, grid, , , ,
Point17,xy, , ,in, deg, , ,, , ,, grid, , , ,
Point18,xy, , ,in, deg, , ,, , ,, grid, , , ,
Point19,xy, , ,in, deg, , ,, , ,, grid, , , ,
Point20,xy, , ,in, deg, , ,, , ,, grid, , , ,
Point21,xy, , ,in, deg, , ,, , ,, grid, , , ,
Point22,xy, , ,in, deg, , ,, , ,, grid, , , ,
Point23,xy, , ,in, deg, , ,, , ,, grid, , , ,
Point24,xy, , ,in, deg, , ,, , ,, grid, , , ,
Point25,xy, , ,in, deg, , ,, , ,, grid, , , ,
Point26,xy, , ,in, deg, , ,, , ,, grid, , , ,
Point27,xy, , ,in, deg, , ,, , ,, grid, , , ,
Point28,xy, , ,in, deg, , ,, , ,, grid, , , ,
Point29,xy, , ,in, deg, , ,, , ,, grid, , , ,
Point30,xy, , ,in, deg, , ,, , ,, grid, , , ,
Projection Setup, 0.000000000, 39.000000000, 1.000000000, 500000.00, 0.00,,,,,
Map Feature = MF ; Map Comment = MC These follow if they exist
Track File = TF These follow if they exist
Moving Map Parameters = MM? These follow if they exist
MM0,Yes
MMPNUM,28
MMPXY,1,1,1185
MMPXY,2,3,918
MMPXY,3,142,1024
MMPXY,4,172,1037
MMPXY,5,200,997
MMPXY,6,330,956
MMPXY,7,330,879
MMPXY,8,404,818
MMPXY,9,371,785
MMPXY,10,388,713
MMPXY,11,448,726
MMPXY,12,499,696
MMPXY,13,487,543
MMPXY,14,560,395
MMPXY,15,668,387
MMPXY,16,669,331
MMPXY,17,737,186
MMPXY,18,884,127
MMPXY,19,967,166
MMPXY,20,1013,113
MMPXY,21,1056,1
MMPXY,22,1181,0
MMPXY,23,1267,113
MMPXY,24,1299,134
MMPXY,25,1365,100
MMPXY,26,1514,109
MMPXY,27,1626,172
MMPXY,28,1625,1184
MMPLL,1,32.538461,57.303072
MMPLL,2,32.536698,57.337884
MMPLL,3,32.570663,57.324727
MMPLL,4,32.577911,57.323175
MMPLL,5,32.584238,57.328522
MMPLL,6,32.614829,57.334484
MMPLL,7,32.614184,57.344521
MMPLL,8,32.631281,57.352824
MMPLL,9,32.623152,57.356968
MMPLL,10,32.626593,57.366434
MMPLL,11,32.640980,57.365025
MMPLL,12,32.652864,57.369178
MMPLL,13,32.648726,57.389064
MMPLL,14,32.664856,57.408702
MMPLL,15,32.690489,57.410258
MMPLL,16,32.690257,57.417562
MMPLL,17,32.705222,57.436785
MMPLL,18,32.739708,57.445174
MMPLL,19,32.759785,57.440485
MMPLL,20,32.770287,57.447612
MMPLL,21,32.779580,57.462415
MMPLL,22,32.809317,57.463140
MMPLL,23,32.830729,57.448819
MMPLL,24,32.838520,57.446234
MMPLL,25,32.853940,57.450979
MMPLL,26,32.889471,57.450514
MMPLL,27,32.916651,57.442834
MMPLL,28,32.924899,57.310919
MM1B,14.309944
MOP,Map Open Position,0,0
IWH,Map Image Width/Height,1727,1270
