OziExplorer Map Data File Version 2.2
B4a2.jpg
B4A2.ozf2
1 ,Map Code,
WGS 84,WGS 84, 0.0000, 0.0000,WGS 84
Reserved 1
Reserved 2
Magnetic Variation,,,E
Map Projection,Latitude/Longitude,PolyCal,No,AutoCalOnly,No,BSBUseWPX,No
Point01,xy, 2238, 814,in, deg, 58, 30,N, 36, 30,E, grid, , , ,N
Point02,xy, 2236, 167,in, deg, 58, 35,N, 36, 30,E, grid, , , ,N
Point03,xy, 1557, 171,in, deg, 58, 35,N, 36, 20,E, grid, , , ,N
Point04,xy, 203, 828,in, deg, 58, 30,N, 36, 0,E, grid, , , ,N
Point05,xy, , ,in, deg, , ,N, , ,E, grid, , , ,N
Point06,xy, , ,in, deg, , ,N, , ,E, grid, , , ,N
Point07,xy, , ,in, deg, , ,N, , ,E, grid, , , ,N
Point08,xy, , ,in, deg, , ,N, , ,E, grid, , , ,N
Point09,xy, , ,in, deg, , ,N, , ,E, grid, , , ,N
Point10,xy, , ,in, deg, , ,, , ,, grid, , , ,
Point11,xy, , ,in, deg, , ,, , ,, grid, , , ,
Point12,xy, , ,in, deg, , ,, , ,, grid, , , ,
Point13,xy, , ,in, deg, , ,, , ,, grid, , , ,
Point14,xy, , ,in, deg, , ,, , ,, grid, , , ,
Point15,xy, , ,in, deg, , ,, , ,, grid, , , ,
Point16,xy, , ,in, deg, , ,, , ,, grid, , , ,
Point17,xy, , ,in, deg, , ,, , ,, grid, , , ,
Point18,xy, , ,in, deg, , ,, , ,, grid, , , ,
Point19,xy, , ,in, deg, , ,, , ,, grid, , , ,
Point20,xy, , ,in, deg, , ,, , ,, grid, , , ,
Point21,xy, , ,in, deg, , ,, , ,, grid, , , ,
Point22,xy, , ,in, deg, , ,, , ,, grid, , , ,
Point23,xy, , ,in, deg, , ,, , ,, grid, , , ,
Point24,xy, , ,in, deg, , ,, , ,, grid, , , ,
Point25,xy, , ,in, deg, , ,, , ,, grid, , , ,
Point26,xy, , ,in, deg, , ,, , ,, grid, , , ,
Point27,xy, , ,in, deg, , ,, , ,, grid, , , ,
Point28,xy, , ,in, deg, , ,, , ,, grid, , , ,
Point29,xy, , ,in, deg, , ,, , ,, grid, , , ,
Point30,xy, , ,in, deg, , ,, , ,, grid, , , ,
Projection Setup,,,,,,,,,,
Map Feature = MF ; Map Comment = MC These follow if they exist
Track File = TF These follow if they exist
Moving Map Parameters = MM? These follow if they exist
MM0,Yes
MMPNUM,46
MMPXY,1,22,553
MMPXY,2,85,614
MMPXY,3,54,674
MMPXY,4,114,858
MMPXY,5,150,855
MMPXY,6,225,928
MMPXY,7,279,911
MMPXY,8,363,936
MMPXY,9,408,964
MMPXY,10,474,879
MMPXY,11,596,808
MMPXY,12,704,846
MMPXY,13,730,809
MMPXY,14,841,812
MMPXY,15,967,734
MMPXY,16,1076,838
MMPXY,17,1126,830
MMPXY,18,1238,865
MMPXY,19,1411,821
MMPXY,20,1546,902
MMPXY,21,1613,971
MMPXY,22,1605,895
MMPXY,23,1703,761
MMPXY,24,1709,702
MMPXY,25,1796,636
MMPXY,26,1883,707
MMPXY,27,1953,704
MMPXY,28,2002,775
MMPXY,29,2044,859
MMPXY,30,2138,734
MMPXY,31,2236,714
MMPXY,32,2240,633
MMPXY,33,2311,611
MMPXY,34,2281,503
MMPXY,35,2306,447
MMPXY,36,2384,333
MMPXY,37,2233,293
MMPXY,38,2234,180
MMPXY,39,2294,125
MMPXY,40,2316,42
MMPXY,41,2379,28
MMPXY,42,2423,48
MMPXY,43,2491,19
MMPXY,44,2564,17
MMPXY,45,2555,989
MMPXY,46,21,972
MMPLL,1,35.955809,58.535542
MMPLL,2,35.971230,58.527635
MMPLL,3,35.963560,58.519939
MMPLL,4,35.978133,58.496203
MMPLL,5,35.986979,58.496558
MMPLL,6,36.005338,58.487096
MMPLL,7,36.018620,58.489237
MMPLL,8,36.039233,58.485946
MMPLL,9,36.050263,58.482303
MMPLL,10,36.066555,58.493186
MMPLL,11,36.096591,58.502218
MMPLL,12,36.123089,58.497233
MMPLL,13,36.129510,58.501973
MMPLL,14,36.156776,58.501490
MMPLL,15,36.187802,58.511420
MMPLL,16,36.214485,58.497938
MMPLL,17,36.226776,58.498924
MMPLL,18,36.254259,58.494321
MMPLL,19,36.296800,58.499834
MMPLL,20,36.329892,58.489290
MMPLL,21,36.346289,58.480350
MMPLL,22,36.344393,58.490139
MMPLL,23,36.368590,58.507302
MMPLL,24,36.370118,58.514891
MMPLL,25,36.391552,58.523310
MMPLL,26,36.412860,58.514095
MMPLL,27,36.430060,58.514421
MMPLL,28,36.442033,58.505239
MMPLL,29,36.452275,58.494390
MMPLL,30,36.475481,58.510398
MMPLL,31,36.499575,58.512886
MMPLL,32,36.500632,58.523309
MMPLL,33,36.518094,58.526079
MMPLL,34,36.510823,58.540006
MMPLL,35,36.517015,58.547193
MMPLL,36,36.536281,58.561798
MMPLL,37,36.499222,58.567079
MMPLL,38,36.499570,58.581623
MMPLL,39,36.514361,58.588650
MMPLL,40,36.519841,58.599314
MMPLL,41,36.535331,58.601061
MMPLL,42,36.546122,58.598449
MMPLL,43,36.562854,58.602122
MMPLL,44,36.580790,58.602316
MMPLL,45,36.577694,58.477211
MMPLL,46,35.955181,58.481611
MM1B,14.291324
MOP,Map Open Position,0,0
IWH,Map Image Width/Height,2689,1031
