OziExplorer Map Data File Version 2.2
B4a1.jpg
B4A1.ozf2
1 ,Map Code,
WGS 84,, 0.0000, 0.0000,WGS 84
Reserved 1
Reserved 2
Magnetic Variation,,,E
Map Projection,Latitude/Longitude,PolyCal,No,AutoCalOnly,No,BSBUseWPX,No
Point01,xy, 60, 416,in, deg, 58, 30,N, 35, 40,E, grid, , , ,N
Point02,xy, 761, 551,in, deg, 58,29.2993867,N, 35,50.5210733,E, grid, , , ,N
Point03,xy, 867, 156,in, deg, 58,32.2251467,N, 35,53.3393983,E, grid, , , ,N
Point04,xy, 428, 69,in, deg, 58,32.834745,N, 35,45.8455517,E, grid, , , ,N
Point05,xy, , ,in, deg, , ,N, , ,E, grid, , , ,N
Point06,xy, , ,in, deg, , ,N, , ,E, grid, , , ,N
Point07,xy, , ,in, deg, , ,N, , ,E, grid, , , ,N
Point08,xy, , ,in, deg, , ,N, , ,E, grid, , , ,N
Point09,xy, , ,in, deg, , ,N, , ,E, grid, , , ,N
Point10,xy, , ,in, deg, , ,N, , ,W, grid, , , ,N
Point11,xy, , ,in, deg, , ,N, , ,W, grid, , , ,N
Point12,xy, , ,in, deg, , ,N, , ,W, grid, , , ,N
Point13,xy, , ,in, deg, , ,N, , ,W, grid, , , ,N
Point14,xy, , ,in, deg, , ,N, , ,W, grid, , , ,N
Point15,xy, , ,in, deg, , ,N, , ,W, grid, , , ,N
Point16,xy, , ,in, deg, , ,N, , ,W, grid, , , ,N
Point17,xy, , ,in, deg, , ,N, , ,W, grid, , , ,N
Point18,xy, , ,in, deg, , ,N, , ,W, grid, , , ,N
Point19,xy, , ,in, deg, , ,N, , ,W, grid, , , ,N
Point20,xy, , ,in, deg, , ,N, , ,W, grid, , , ,N
Point21,xy, , ,in, deg, , ,N, , ,W, grid, , , ,N
Point22,xy, , ,in, deg, , ,N, , ,W, grid, , , ,N
Point23,xy, , ,in, deg, , ,N, , ,W, grid, , , ,N
Point24,xy, , ,in, deg, , ,N, , ,W, grid, , , ,N
Point25,xy, , ,in, deg, , ,N, , ,W, grid, , , ,N
Point26,xy, , ,in, deg, , ,N, , ,W, grid, , , ,N
Point27,xy, , ,in, deg, , ,N, , ,W, grid, , , ,N
Point28,xy, , ,in, deg, , ,N, , ,W, grid, , , ,N
Point29,xy, , ,in, deg, , ,N, , ,W, grid, , , ,N
Point30,xy, , ,in, deg, , ,N, , ,W, grid, , , ,N
Projection Setup, 0.000000000, 33.000000000, 1.000000000, 500000.00, 0.00,,,,,
Map Feature = MF ; Map Comment = MC These follow if they exist
Track File = TF These follow if they exist
Moving Map Parameters = MM? These follow if they exist
MM0,Yes
MMPNUM,23
MMPXY,1,52,554
MMPXY,2,100,462
MMPXY,3,150,549
MMPXY,4,206,551
MMPXY,5,269,456
MMPXY,6,324,424
MMPXY,7,356,457
MMPXY,8,379,408
MMPXY,9,308,337
MMPXY,10,294,243
MMPXY,11,335,219
MMPXY,12,376,64
MMPXY,13,442,43
MMPXY,14,474,152
MMPXY,15,585,171
MMPXY,16,645,136
MMPXY,17,754,136
MMPXY,18,834,73
MMPXY,19,959,22
MMPXY,20,978,63
MMPXY,21,1057,119
MMPXY,22,1233,130
MMPXY,23,1232,552
MMPLL,1,35.657482,58.483213
MMPLL,2,35.672480,58.495062
MMPLL,3,35.683636,58.484406
MMPLL,4,35.698462,58.484477
MMPLL,5,35.717518,58.496791
MMPLL,6,35.732909,58.501133
MMPLL,7,35.740603,58.497166
MMPLL,8,35.747910,58.503462
MMPLL,9,35.730785,58.511985
MMPLL,10,35.729363,58.523728
MMPLL,11,35.740840,58.526984
MMPLL,12,35.755518,58.546718
MMPLL,13,35.773563,58.549739
MMPLL,14,35.779400,58.536212
MMPLL,15,35.808420,58.534462
MMPLL,16,35.825213,58.539210
MMPLL,17,35.854166,58.539838
MMPLL,18,35.876956,58.548224
MMPLL,19,35.911406,58.555360
MMPLL,20,35.915451,58.550312
MMPLL,21,35.935067,58.543722
MMPLL,22,35.981549,58.543353
MMPLL,23,35.970972,58.490263
MM1B,15.437219
MOP,Map Open Position,0,0
IWH,Map Image Width/Height,1265,594
