OziExplorer Map Data File Version 2.2
Mozhaysk.ozf2
D:\MAPS\Pics\OldMaps\Mezhevanie\Moscow\Mozhaysk.ozf2
1 ,Map Code,
WGS 84,, 0.0000, 0.0000,WGS 84
Reserved 1
Reserved 2
Magnetic Variation,,,E
Map Projection,Latitude/Longitude,PolyCal,No,AutoCalOnly,No,BSBUseWPX,No
Point01,xy, 2132, 2683,in, deg, 55,35.8286817,N, 35,57.0195317,E, grid, , , ,N
Point02,xy, 667, 2611,in, deg, 55,34.747615,N, 35,35.2059917,E, grid, , , ,N
Point03,xy, 281, 1474,in, deg, 55,43.651255,N, 35,26.6354633,E, grid, , , ,N
Point04,xy, 1621, 361,in, deg, 55,53.9657783,N, 35,44.5025533,E, grid, , , ,N
Point05,xy, , ,in, deg, , ,N, , ,E, grid, , , ,N
Point06,xy, , ,in, deg, , ,N, , ,E, grid, , , ,N
Point07,xy, , ,in, deg, , ,N, , ,E, grid, , , ,N
Point08,xy, , ,in, deg, , ,N, , ,E, grid, , , ,N
Point09,xy, , ,in, deg, , ,N, , ,E, grid, , , ,N
Point10,xy, , ,in, deg, , ,, , ,, grid, , , ,
Point11,xy, , ,in, deg, , ,, , ,, grid, , , ,
Point12,xy, , ,in, deg, , ,, , ,, grid, , , ,
Point13,xy, , ,in, deg, , ,, , ,, grid, , , ,
Point14,xy, , ,in, deg, , ,, , ,, grid, , , ,
Point15,xy, , ,in, deg, , ,, , ,, grid, , , ,
Point16,xy, , ,in, deg, , ,, , ,, grid, , , ,
Point17,xy, , ,in, deg, , ,, , ,, grid, , , ,
Point18,xy, , ,in, deg, , ,, , ,, grid, , , ,
Point19,xy, , ,in, deg, , ,, , ,, grid, , , ,
Point20,xy, , ,in, deg, , ,, , ,, grid, , , ,
Point21,xy, , ,in, deg, , ,, , ,, grid, , , ,
Point22,xy, , ,in, deg, , ,, , ,, grid, , , ,
Point23,xy, , ,in, deg, , ,, , ,, grid, , , ,
Point24,xy, , ,in, deg, , ,, , ,, grid, , , ,
Point25,xy, , ,in, deg, , ,, , ,, grid, , , ,
Point26,xy, , ,in, deg, , ,, , ,, grid, , , ,
Point27,xy, , ,in, deg, , ,, , ,, grid, , , ,
Point28,xy, , ,in, deg, , ,, , ,, grid, , , ,
Point29,xy, , ,in, deg, , ,, , ,, grid, , , ,
Point30,xy, , ,in, deg, , ,, , ,, grid, , , ,
Projection Setup,,,,,,,,,,
Map Feature = MF ; Map Comment = MC These follow if they exist
Track File = TF These follow if they exist
Moving Map Parameters = MM? These follow if they exist
MM0,Yes
MMPNUM,56
MMPXY,1,36,1238
MMPXY,2,243,1149
MMPXY,3,522,1258
MMPXY,4,537,1090
MMPXY,5,444,899
MMPXY,6,605,607
MMPXY,7,904,658
MMPXY,8,1006,550
MMPXY,9,872,395
MMPXY,10,886,73
MMPXY,11,1084,5
MMPXY,12,1516,182
MMPXY,13,1835,51
MMPXY,14,1817,227
MMPXY,15,1779,341
MMPXY,16,2256,626
MMPXY,17,2214,775
MMPXY,18,2301,882
MMPXY,19,2280,1048
MMPXY,20,2301,1156
MMPXY,21,2207,1240
MMPXY,22,2239,1404
MMPXY,23,2140,1601
MMPXY,24,1975,1622
MMPXY,25,2059,1688
MMPXY,26,2030,1882
MMPXY,27,1850,1884
MMPXY,28,1978,2163
MMPXY,29,1931,2250
MMPXY,30,2082,2326
MMPXY,31,2079,2442
MMPXY,32,2202,2584
MMPXY,33,2211,2802
MMPXY,34,2099,2874
MMPXY,35,1740,2768
MMPXY,36,1531,2797
MMPXY,37,1281,2720
MMPXY,38,913,2708
MMPXY,39,840,2641
MMPXY,40,810,2775
MMPXY,41,650,2743
MMPXY,42,373,2490
MMPXY,43,520,2395
MMPXY,44,646,2416
MMPXY,45,615,2292
MMPXY,46,436,2268
MMPXY,47,475,1966
MMPXY,48,527,1922
MMPXY,49,435,1832
MMPXY,50,503,1722
MMPXY,51,474,1602
MMPXY,52,246,1591
MMPXY,53,221,1499
MMPXY,54,19,1516
MMPXY,55,7,1447
MMPXY,56,66,1391
MMPLL,1,35.376861,55.753898
MMPLL,2,35.425267,55.769536
MMPLL,3,35.498793,55.759802
MMPLL,4,35.496455,55.782676
MMPLL,5,35.466350,55.806734
MMPLL,6,35.495938,55.848877
MMPLL,7,35.572354,55.847302
MMPLL,8,35.593885,55.863640
MMPLL,9,35.554857,55.882129
MMPLL,10,35.546698,55.925709
MMPLL,11,35.593619,55.938362
MMPLL,12,35.707763,55.922183
MMPLL,13,35.782582,55.945454
MMPLL,14,35.784461,55.921451
MMPLL,15,35.779108,55.905437
MMPLL,16,35.908384,55.875520
MMPLL,17,35.903300,55.854726
MMPLL,18,35.928869,55.841865
MMPLL,19,35.929638,55.819155
MMPLL,20,35.938783,55.804992
MMPLL,21,35.918379,55.792026
MMPLL,22,35.932294,55.770522
MMPLL,23,35.914731,55.742260
MMPLL,24,35.874340,55.736516
MMPLL,25,35.897678,55.729119
MMPLL,26,35.897464,55.702499
MMPLL,27,35.852645,55.699047
MMPLL,28,35.894663,55.663764
MMPLL,29,35.886089,55.651225
MMPLL,30,35.926498,55.643668
MMPLL,31,35.929947,55.628005
MMPLL,32,35.965761,55.611071
MMPLL,33,35.975893,55.581893
MMPLL,34,35.950566,55.570223
MMPLL,35,35.857196,55.578138
MMPLL,36,35.806121,55.570539
MMPLL,37,35.740985,55.576480
MMPLL,38,35.648772,55.571586
MMPLL,39,35.628142,55.579311
MMPLL,40,35.625509,55.560748
MMPLL,41,35.584447,55.562225
MMPLL,42,35.506209,55.591372
MMPLL,43,35.539433,55.606757
MMPLL,44,35.571618,55.606159
MMPLL,45,35.559400,55.622298
MMPLL,46,35.513889,55.622362
MMPLL,47,35.512688,55.663693
MMPLL,48,35.524065,55.670534
MMPLL,49,35.497864,55.681018
MMPLL,50,35.510843,55.697024
MMPLL,51,35.499268,55.712660
MMPLL,52,35.442007,55.710108
MMPLL,53,35.432444,55.722046
MMPLL,54,35.382680,55.716186
MMPLL,55,35.377191,55.725259
MMPLL,56,35.389879,55.733839
MM1B,15.792769
MOP,Map Open Position,0,0
IWH,Map Image Width/Height,2315,2880
