OziExplorer Map Data File Version 2.2
Bogorodsk3.ozf2
D:\MAPS\Pics\OldMaps\Mezhevanie\Moscow\Bogorodsk3.ozf2
1 ,Map Code,
WGS 84,, 0.0000, 0.0000,WGS 84
Reserved 1
Reserved 2
Magnetic Variation,,,E
Map Projection,Latitude/Longitude,PolyCal,No,AutoCalOnly,No,BSBUseWPX,No
Point01,xy, 1829, 137,in, deg, 56,21.25936,N, 38,6.98305833,E, grid, , , ,N
Point02,xy, 3217, 1996,in, deg, 56,8.13657167,N, 38,30.3793733,E, grid, , , ,N
Point03,xy, 1355, 2669,in, deg, 56,0.998773333,N, 38,4.324645,E, grid, , , ,N
Point04,xy, 210, 1875,in, deg, 56, 6.25503,N, 37,47.2655867,E, grid, , , ,N
Point05,xy, , ,in, deg, , ,N, , ,E, grid, , , ,N
Point06,xy, , ,in, deg, , ,N, , ,E, grid, , , ,N
Point07,xy, , ,in, deg, , ,N, , ,E, grid, , , ,N
Point08,xy, , ,in, deg, , ,N, , ,E, grid, , , ,N
Point09,xy, , ,in, deg, , ,N, , ,E, grid, , , ,N
Point10,xy, , ,in, deg, , ,, , ,, grid, , , ,
Point11,xy, , ,in, deg, , ,, , ,, grid, , , ,
Point12,xy, , ,in, deg, , ,, , ,, grid, , , ,
Point13,xy, , ,in, deg, , ,, , ,, grid, , , ,
Point14,xy, , ,in, deg, , ,, , ,, grid, , , ,
Point15,xy, , ,in, deg, , ,, , ,, grid, , , ,
Point16,xy, , ,in, deg, , ,, , ,, grid, , , ,
Point17,xy, , ,in, deg, , ,, , ,, grid, , , ,
Point18,xy, , ,in, deg, , ,, , ,, grid, , , ,
Point19,xy, , ,in, deg, , ,, , ,, grid, , , ,
Point20,xy, , ,in, deg, , ,, , ,, grid, , , ,
Point21,xy, , ,in, deg, , ,, , ,, grid, , , ,
Point22,xy, , ,in, deg, , ,, , ,, grid, , , ,
Point23,xy, , ,in, deg, , ,, , ,, grid, , , ,
Point24,xy, , ,in, deg, , ,, , ,, grid, , , ,
Point25,xy, , ,in, deg, , ,, , ,, grid, , , ,
Point26,xy, , ,in, deg, , ,, , ,, grid, , , ,
Point27,xy, , ,in, deg, , ,, , ,, grid, , , ,
Point28,xy, , ,in, deg, , ,, , ,, grid, , , ,
Point29,xy, , ,in, deg, , ,, , ,, grid, , , ,
Point30,xy, , ,in, deg, , ,, , ,, grid, , , ,
Projection Setup,,,,,,,,,,
Map Feature = MF ; Map Comment = MC These follow if they exist
Track File = TF These follow if they exist
Moving Map Parameters = MM? These follow if they exist
MM0,Yes
MMPNUM,66
MMPXY,1,10,1843
MMPXY,2,207,1637
MMPXY,3,282,1485
MMPXY,4,534,1448
MMPXY,5,638,1396
MMPXY,6,605,1283
MMPXY,7,659,1057
MMPXY,8,763,1030
MMPXY,9,808,864
MMPXY,10,946,839
MMPXY,11,1010,599
MMPXY,12,1124,632
MMPXY,13,1305,387
MMPXY,14,1536,220
MMPXY,15,1654,257
MMPXY,16,1582,130
MMPXY,17,1801,47
MMPXY,18,1977,33
MMPXY,19,2144,80
MMPXY,20,2172,141
MMPXY,21,2098,255
MMPXY,22,2258,472
MMPXY,23,2233,586
MMPXY,24,2087,617
MMPXY,25,2136,791
MMPXY,26,2094,875
MMPXY,27,2122,951
MMPXY,28,2108,1043
MMPXY,29,1929,1307
MMPXY,30,2094,1439
MMPXY,31,2208,1409
MMPXY,32,2241,1324
MMPXY,33,2416,1290
MMPXY,34,2502,1205
MMPXY,35,2662,1189
MMPXY,36,2874,1302
MMPXY,37,2978,1420
MMPXY,38,3115,1391
MMPXY,39,3198,1631
MMPXY,40,3313,1666
MMPXY,41,3342,1861
MMPXY,42,3331,1992
MMPXY,43,3304,2040
MMPXY,44,3358,2131
MMPXY,45,3332,2190
MMPXY,46,3377,2335
MMPXY,47,3169,2283
MMPXY,48,3022,2388
MMPXY,49,2847,2521
MMPXY,50,2676,2655
MMPXY,51,2502,2590
MMPXY,52,2385,2646
MMPXY,53,2306,2618
MMPXY,54,2118,2757
MMPXY,55,1947,2667
MMPXY,56,1565,2811
MMPXY,57,1288,2895
MMPXY,58,1070,2669
MMPXY,59,987,2711
MMPXY,60,607,2685
MMPXY,61,417,2543
MMPXY,62,284,2556
MMPXY,63,315,2404
MMPXY,64,259,2276
MMPXY,65,179,2241
MMPXY,66,76,2059
MMPLL,1,37.734100,56.104195
MMPLL,2,37.775176,56.134106
MMPLL,3,37.788718,56.155067
MMPLL,4,37.847718,56.163855
MMPLL,5,37.871021,56.172262
MMPLL,6,37.859936,56.186445
MMPLL,7,37.866364,56.216704
MMPLL,8,37.890379,56.221857
MMPLL,9,37.896372,56.244167
MMPLL,10,37.928546,56.249596
MMPLL,11,37.936958,56.281834
MMPLL,12,37.965067,56.279338
MMPLL,13,38.001219,56.314071
MMPLL,14,38.051510,56.339444
MMPLL,15,38.080685,56.336491
MMPLL,16,38.059907,56.351881
MMPLL,17,38.109732,56.366134
MMPLL,18,38.151276,56.370731
MMPLL,19,38.192414,56.367249
MMPLL,20,38.200825,56.359753
MMPLL,21,38.186439,56.343752
MMPLL,22,38.230753,56.318039
MMPLL,23,38.228045,56.302811
MMPLL,24,38.194134,56.296475
MMPLL,25,38.210771,56.274606
MMPLL,26,38.203156,56.263014
MMPLL,27,38.211994,56.253566
MMPLL,28,38.211280,56.241374
MMPLL,29,38.176146,56.204200
MMPLL,30,38.219230,56.189626
MMPLL,31,38.245542,56.195327
MMPLL,32,38.250984,56.206907
MMPLL,33,38.291720,56.214091
MMPLL,34,38.309792,56.226508
MMPLL,35,38.347466,56.231112
MMPLL,36,38.401209,56.219752
MMPLL,37,38.429357,56.206037
MMPLL,38,38.461179,56.211971
MMPLL,39,38.487799,56.182051
MMPLL,40,38.516202,56.179310
MMPLL,41,38.528671,56.154394
MMPLL,42,38.529783,56.137174
MMPLL,43,38.524716,56.130503
MMPLL,44,38.540179,56.119513
MMPLL,45,38.535664,56.111426
MMPLL,46,38.550521,56.093268
MMPLL,47,38.499470,56.096755
MMPLL,48,38.467430,56.080774
MMPLL,49,38.429516,56.060708
MMPLL,50,38.392583,56.040576
MMPLL,51,38.349265,56.046290
MMPLL,52,38.322978,56.037158
MMPLL,53,38.303353,56.039556
MMPLL,54,38.262512,56.018504
MMPLL,55,38.219195,56.027519
MMPLL,56,38.132264,56.002758
MMPLL,57,38.068645,55.987460
MMPLL,58,38.010252,56.013429
MMPLL,59,37.991669,56.006656
MMPLL,60,37.900369,56.004047
MMPLL,61,37.851043,56.019528
MMPLL,62,37.819718,56.015739
MMPLL,63,37.822774,56.036006
MMPLL,64,37.805780,56.051779
MMPLL,65,37.785717,56.055071
MMPLL,66,37.755984,56.077129
MM1B,14.910491
MOP,Map Open Position,0,0
IWH,Map Image Width/Height,3384,2920
