OziExplorer Map Data File Version 2.2
Bogorodsk2.ozf2
D:\MAPS\Pics\OldMaps\Mezhevanie\Moscow\Bogorodsk2.ozf2
1 ,Map Code,
WGS 84,WGS 84, 0.0000, 0.0000,WGS 84
Reserved 1
Reserved 2
Magnetic Variation,,,E
Map Projection,Latitude/Longitude,PolyCal,No,AutoCalOnly,No,BSBUseWPX,No
Point01,xy, 293, 580,in, deg, 55,59.0621867,N, 37,48.2160967,E, grid, , , ,N
Point02,xy, 3124, 252,in, deg, 56,3.91380167,N, 38,27.4485783,E, grid, , , ,N
Point03,xy, 3320, 1369,in, deg, 55,54.9410483,N, 38,31.3433383,E, grid, , , ,N
Point04,xy, 1652, 3010,in, deg, 55,40.4654867,N, 38,11.0584833,E, grid, , , ,N
Point05,xy, , ,in, deg, , ,N, , ,E, grid, , , ,N
Point06,xy, , ,in, deg, , ,N, , ,E, grid, , , ,N
Point07,xy, , ,in, deg, , ,N, , ,E, grid, , , ,N
Point08,xy, , ,in, deg, , ,N, , ,E, grid, , , ,N
Point09,xy, , ,in, deg, , ,N, , ,E, grid, , , ,N
Point10,xy, , ,in, deg, , ,, , ,, grid, , , ,
Point11,xy, , ,in, deg, , ,, , ,, grid, , , ,
Point12,xy, , ,in, deg, , ,, , ,, grid, , , ,
Point13,xy, , ,in, deg, , ,, , ,, grid, , , ,
Point14,xy, , ,in, deg, , ,, , ,, grid, , , ,
Point15,xy, , ,in, deg, , ,, , ,, grid, , , ,
Point16,xy, , ,in, deg, , ,, , ,, grid, , , ,
Point17,xy, , ,in, deg, , ,, , ,, grid, , , ,
Point18,xy, , ,in, deg, , ,, , ,, grid, , , ,
Point19,xy, , ,in, deg, , ,, , ,, grid, , , ,
Point20,xy, , ,in, deg, , ,, , ,, grid, , , ,
Point21,xy, , ,in, deg, , ,, , ,, grid, , , ,
Point22,xy, , ,in, deg, , ,, , ,, grid, , , ,
Point23,xy, , ,in, deg, , ,, , ,, grid, , , ,
Point24,xy, , ,in, deg, , ,, , ,, grid, , , ,
Point25,xy, , ,in, deg, , ,, , ,, grid, , , ,
Point26,xy, , ,in, deg, , ,, , ,, grid, , , ,
Point27,xy, , ,in, deg, , ,, , ,, grid, , , ,
Point28,xy, , ,in, deg, , ,, , ,, grid, , , ,
Point29,xy, , ,in, deg, , ,, , ,, grid, , , ,
Point30,xy, , ,in, deg, , ,, , ,, grid, , , ,
Projection Setup,,,,,,,,,,
Map Feature = MF ; Map Comment = MC These follow if they exist
Track File = TF These follow if they exist
Moving Map Parameters = MM? These follow if they exist
MM0,Yes
MMPNUM,75
MMPXY,1,132,395
MMPXY,2,310,333
MMPXY,3,387,348
MMPXY,4,518,250
MMPXY,5,643,284
MMPXY,6,634,342
MMPXY,7,732,423
MMPXY,8,858,408
MMPXY,9,1040,406
MMPXY,10,1115,444
MMPXY,11,1198,356
MMPXY,12,1442,614
MMPXY,13,1595,494
MMPXY,14,1675,540
MMPXY,15,1812,467
MMPXY,16,1971,485
MMPXY,17,2077,378
MMPXY,18,2245,464
MMPXY,19,2453,346
MMPXY,20,2733,321
MMPXY,21,2830,370
MMPXY,22,2984,178
MMPXY,23,3307,9
MMPXY,24,3465,49
MMPXY,25,3566,341
MMPXY,26,3535,410
MMPXY,27,3440,437
MMPXY,28,3406,654
MMPXY,29,3485,765
MMPXY,30,3464,844
MMPXY,31,3654,1123
MMPXY,32,3538,1190
MMPXY,33,3389,1126
MMPXY,34,3412,1572
MMPXY,35,3243,1586
MMPXY,36,2958,1513
MMPXY,37,2762,1626
MMPXY,38,2455,1744
MMPXY,39,2478,1877
MMPXY,40,2345,2009
MMPXY,41,2248,2058
MMPXY,42,2276,2214
MMPXY,43,2170,2447
MMPXY,44,2424,2577
MMPXY,45,2485,2745
MMPXY,46,2373,2930
MMPXY,47,2438,3050
MMPXY,48,2160,3102
MMPXY,49,1883,3039
MMPXY,50,1625,3118
MMPXY,51,1466,2991
MMPXY,52,1613,2848
MMPXY,53,1425,2931
MMPXY,54,1265,2882
MMPXY,55,1028,2835
MMPXY,56,977,2702
MMPXY,57,989,2584
MMPXY,58,872,2528
MMPXY,59,999,2415
MMPXY,60,990,2276
MMPXY,61,1063,2033
MMPXY,62,1007,1922
MMPXY,63,1182,1867
MMPXY,64,1089,1711
MMPXY,65,925,1724
MMPXY,66,739,1417
MMPXY,67,763,1313
MMPXY,68,736,1240
MMPXY,69,557,1327
MMPXY,70,415,1256
MMPXY,71,307,1095
MMPXY,72,159,1074
MMPXY,73,279,900
MMPXY,74,58,872
MMPXY,75,48,689
MMPLL,1,37.762928,56.007497
MMPLL,2,37.802640,56.018107
MMPLL,3,37.820884,56.017057
MMPLL,4,37.848777,56.031927
MMPLL,5,37.878640,56.028922
MMPLL,6,37.878030,56.020988
MMPLL,7,37.902827,56.011304
MMPLL,8,37.931674,56.014919
MMPLL,9,37.973842,56.017488
MMPLL,10,37.992208,56.013312
MMPLL,11,38.009221,56.026227
MMPLL,12,38.072395,55.994521
MMPLL,13,38.104831,56.012635
MMPLL,14,38.124561,56.007443
MMPLL,15,38.154482,56.019018
MMPLL,16,38.191824,56.018600
MMPLL,17,38.213688,56.034368
MMPLL,18,38.254851,56.024894
MMPLL,19,38.300096,56.043434
MMPLL,20,38.364412,56.050344
MMPLL,21,38.388162,56.044962
MMPLL,22,38.418995,56.072798
MMPLL,23,38.489618,56.099668
MMPLL,24,38.527289,56.096271
MMPLL,25,38.558157,56.058173
MMPLL,26,38.552724,56.048477
MMPLL,27,38.531374,56.043636
MMPLL,28,38.529015,56.013945
MMPLL,29,38.550169,55.999976
MMPLL,30,38.547310,55.989058
MMPLL,31,38.598493,55.953838
MMPLL,32,38.573291,55.943337
MMPLL,33,38.537096,55.950084
MMPLL,34,38.553793,55.890235
MMPLL,35,38.514946,55.886211
MMPLL,36,38.446973,55.892453
MMPLL,37,38.404385,55.874739
MMPLL,38,38.336174,55.854948
MMPLL,39,38.344898,55.837305
MMPLL,40,38.317408,55.817825
MMPLL,41,38.296154,55.809991
MMPLL,42,38.306624,55.789310
MMPLL,43,38.287970,55.756552
MMPLL,44,38.350204,55.742232
MMPLL,45,38.368634,55.720349
MMPLL,46,38.347366,55.693987
MMPLL,47,38.365501,55.678628
MMPLL,48,38.302337,55.668103
MMPLL,49,38.236475,55.673097
MMPLL,50,38.178637,55.659185
MMPLL,51,38.138518,55.674300
MMPLL,52,38.168975,55.695441
MMPLL,53,38.127478,55.681873
MMPLL,54,38.089114,55.686458
MMPLL,55,38.032938,55.689801
MMPLL,56,38.017719,55.707091
MMPLL,57,38.017497,55.723154
MMPLL,58,37.988929,55.729227
MMPLL,59,38.015511,55.746069
MMPLL,60,38.009882,55.764699
MMPLL,61,38.020626,55.798388
MMPLL,62,38.004808,55.812648
MMPLL,63,38.044002,55.822276
MMPLL,64,38.018454,55.842136
MMPLL,65,37.980742,55.838311
MMPLL,66,37.929773,55.877358
MMPLL,67,37.932691,55.891685
MMPLL,68,37.924568,55.901187
MMPLL,69,37.885261,55.887194
MMPLL,70,37.850511,55.894973
MMPLL,71,37.821356,55.915318
MMPLL,72,37.786489,55.916280
MMPLL,73,37.809893,55.941259
MMPLL,74,37.757913,55.942242
MMPLL,75,37.750932,55.966792
MM1B,14.597889
MOP,Map Open Position,0,0
IWH,Map Image Width/Height,3664,3184
