OziExplorer Map Data File Version 2.2
Bogorodsk1.ozf2
D:\MAPS\Pics\OldMaps\Mezhevanie\Moscow\Bogorodsk1.ozf2
1 ,Map Code,
WGS 84,, 0.0000, 0.0000,WGS 84
Reserved 1
Reserved 2
Magnetic Variation,,,E
Map Projection,Latitude/Longitude,PolyCal,No,AutoCalOnly,No,BSBUseWPX,No
Point01,xy, 128, 1524,in, deg, 55,46.1378783,N, 38,17.3878283,E, grid, , , ,N
Point02,xy, 1795, 291,in, deg, 55,57.514075,N, 38,39.4338917,E, grid, , , ,N
Point03,xy, 2790, 960,in, deg, 55,52.40423,N, 38,53.4480767,E, grid, , , ,N
Point04,xy, 3247, 2683,in, deg, 55,38.4281933,N, 39,1.53077333,E, grid, , , ,N
Point05,xy, 1064, 2747,in, deg, 55,37.0266683,N, 38,32.21748,E, grid, , , ,N
Point06,xy, , ,in, deg, , ,N, , ,E, grid, , , ,N
Point07,xy, , ,in, deg, , ,N, , ,E, grid, , , ,N
Point08,xy, , ,in, deg, , ,N, , ,E, grid, , , ,N
Point09,xy, , ,in, deg, , ,N, , ,E, grid, , , ,N
Point10,xy, , ,in, deg, , ,, , ,, grid, , , ,
Point11,xy, , ,in, deg, , ,, , ,, grid, , , ,
Point12,xy, , ,in, deg, , ,, , ,, grid, , , ,
Point13,xy, , ,in, deg, , ,, , ,, grid, , , ,
Point14,xy, , ,in, deg, , ,, , ,, grid, , , ,
Point15,xy, , ,in, deg, , ,, , ,, grid, , , ,
Point16,xy, , ,in, deg, , ,, , ,, grid, , , ,
Point17,xy, , ,in, deg, , ,, , ,, grid, , , ,
Point18,xy, , ,in, deg, , ,, , ,, grid, , , ,
Point19,xy, , ,in, deg, , ,, , ,, grid, , , ,
Point20,xy, , ,in, deg, , ,, , ,, grid, , , ,
Point21,xy, , ,in, deg, , ,, , ,, grid, , , ,
Point22,xy, , ,in, deg, , ,, , ,, grid, , , ,
Point23,xy, , ,in, deg, , ,, , ,, grid, , , ,
Point24,xy, , ,in, deg, , ,, , ,, grid, , , ,
Point25,xy, , ,in, deg, , ,, , ,, grid, , , ,
Point26,xy, , ,in, deg, , ,, , ,, grid, , , ,
Point27,xy, , ,in, deg, , ,, , ,, grid, , , ,
Point28,xy, , ,in, deg, , ,, , ,, grid, , , ,
Point29,xy, , ,in, deg, , ,, , ,, grid, , , ,
Point30,xy, , ,in, deg, , ,, , ,, grid, , , ,
Projection Setup,,,,,,,,,,
Map Feature = MF ; Map Comment = MC These follow if they exist
Track File = TF These follow if they exist
Moving Map Parameters = MM? These follow if they exist
MM0,Yes
MMPNUM,69
MMPXY,1,1233,234
MMPXY,2,1323,205
MMPXY,3,1413,269
MMPXY,4,1491,237
MMPXY,5,1439,146
MMPXY,6,1587,49
MMPXY,7,1671,106
MMPXY,8,2020,25
MMPXY,9,2188,95
MMPXY,10,2494,402
MMPXY,11,2600,566
MMPXY,12,2807,851
MMPXY,13,2953,999
MMPXY,14,3145,1062
MMPXY,15,3371,1328
MMPXY,16,3260,1425
MMPXY,17,2932,1666
MMPXY,18,2836,1732
MMPXY,19,2725,1726
MMPXY,20,2725,1857
MMPXY,21,2667,1915
MMPXY,22,2656,1996
MMPXY,23,2779,2107
MMPXY,24,3083,2359
MMPXY,25,3164,2458
MMPXY,26,3264,2441
MMPXY,27,3415,2497
MMPXY,28,3436,2585
MMPXY,29,3374,2690
MMPXY,30,3077,2836
MMPXY,31,3048,2954
MMPXY,32,2949,3041
MMPXY,33,2668,3046
MMPXY,34,2312,2668
MMPXY,35,2255,2642
MMPXY,36,2307,2712
MMPXY,37,2190,2869
MMPXY,38,1910,2842
MMPXY,39,1621,2833
MMPXY,40,1481,2721
MMPXY,41,1474,2631
MMPXY,42,1297,2632
MMPXY,43,1163,2818
MMPXY,44,955,2889
MMPXY,45,894,2765
MMPXY,46,922,2701
MMPXY,47,987,2688
MMPXY,48,921,2634
MMPXY,49,859,2482
MMPXY,50,962,2395
MMPXY,51,880,2338
MMPXY,52,567,2122
MMPXY,53,381,2169
MMPXY,54,279,2066
MMPXY,55,387,1866
MMPXY,56,333,1756
MMPXY,57,20,1603
MMPXY,58,131,1349
MMPXY,59,123,1173
MMPXY,60,326,1051
MMPXY,61,300,879
MMPXY,62,485,769
MMPXY,63,657,734
MMPXY,64,669,654
MMPXY,65,765,667
MMPXY,66,845,596
MMPXY,67,1211,651
MMPXY,68,1233,417
MMPXY,69,1168,349
MMPLL,1,38.524053,55.959140
MMPLL,2,38.544063,55.963938
MMPLL,3,38.565760,55.955999
MMPLL,4,38.582977,55.961098
MMPLL,5,38.569460,55.973083
MMPLL,6,38.601470,55.987726
MMPLL,7,38.621671,55.980691
MMPLL,8,38.699834,55.994988
MMPLL,9,38.739438,55.986944
MMPLL,10,38.814831,55.947710
MMPLL,11,38.841994,55.926224
MMPLL,12,38.894399,55.889094
MMPLL,13,38.930399,55.870166
MMPLL,14,38.975352,55.863301
MMPLL,15,39.031747,55.828948
MMPLL,16,39.008180,55.814645
MMPLL,17,38.937713,55.778629
MMPLL,18,38.917006,55.768709
MMPLL,19,38.891570,55.768511
MMPLL,20,38.893947,55.750571
MMPLL,21,38.881766,55.742096
MMPLL,22,38.880726,55.730902
MMPLL,23,38.910806,55.716830
MMPLL,24,38.984745,55.685110
MMPLL,25,39.005024,55.672296
MMPLL,26,39.027533,55.675542
MMPLL,27,39.063004,55.669259
MMPLL,28,39.069393,55.657400
MMPLL,29,39.057151,55.642452
MMPLL,30,38.992033,55.619730
MMPLL,31,38.987558,55.603304
MMPLL,32,38.966547,55.590481
MMPLL,33,38.902521,55.587216
MMPLL,34,38.814430,55.635714
MMPLL,35,38.800952,55.638752
MMPLL,36,38.814088,55.629643
MMPLL,37,38.790241,55.607068
MMPLL,38,38.725862,55.608194
MMPLL,39,38.659756,55.606774
MMPLL,40,38.625778,55.620826
MMPLL,41,38.622548,55.633088
MMPLL,42,38.582179,55.631326
MMPLL,43,38.554979,55.604623
MMPLL,44,38.508807,55.592990
MMPLL,45,38.492638,55.609411
MMPLL,46,38.497866,55.618433
MMPLL,47,38.512461,55.620810
MMPLL,48,38.496421,55.627600
MMPLL,49,38.479516,55.647846
MMPLL,50,38.501439,55.660707
MMPLL,51,38.481694,55.667760
MMPLL,52,38.406355,55.694467
MMPLL,53,38.364767,55.686323
MMPLL,54,38.339624,55.699492
MMPLL,55,38.360637,55.727873
MMPLL,56,38.346319,55.742442
MMPLL,57,38.272123,55.760521
MMPLL,58,38.292841,55.796325
MMPLL,59,38.287821,55.820355
MMPLL,60,38.331927,55.838926
MMPLL,61,38.322872,55.862242
MMPLL,62,38.363088,55.879005
MMPLL,63,38.401699,55.885378
MMPLL,64,38.402985,55.896444
MMPLL,65,38.425126,55.895545
MMPLL,66,38.442091,55.906002
MMPLL,67,38.526602,55.901831
MMPLL,68,38.527375,55.934078
MMPLL,69,38.511309,55.942794
MM1B,14.358277
MOP,Map Open Position,0,0
IWH,Map Image Width/Height,3472,3064
